BEGIN:VCALENDAR
VERSION:2.0
PRODID:-//Sexual Violence Center - ECPv6.15.20//NONSGML v1.0//EN
CALSCALE:GREGORIAN
METHOD:PUBLISH
X-ORIGINAL-URL:https://www.sexualviolencecenter.org
X-WR-CALDESC:Events for Sexual Violence Center
REFRESH-INTERVAL;VALUE=DURATION:PT1H
X-Robots-Tag:noindex
X-PUBLISHED-TTL:PT1H
BEGIN:VTIMEZONE
TZID:America/Chicago
BEGIN:DAYLIGHT
TZOFFSETFROM:-0600
TZOFFSETTO:-0500
TZNAME:CDT
DTSTART:20230312T080000
END:DAYLIGHT
BEGIN:STANDARD
TZOFFSETFROM:-0500
TZOFFSETTO:-0600
TZNAME:CST
DTSTART:20231105T070000
END:STANDARD
BEGIN:DAYLIGHT
TZOFFSETFROM:-0600
TZOFFSETTO:-0500
TZNAME:CDT
DTSTART:20240310T080000
END:DAYLIGHT
BEGIN:STANDARD
TZOFFSETFROM:-0500
TZOFFSETTO:-0600
TZNAME:CST
DTSTART:20241103T070000
END:STANDARD
BEGIN:DAYLIGHT
TZOFFSETFROM:-0600
TZOFFSETTO:-0500
TZNAME:CDT
DTSTART:20250309T080000
END:DAYLIGHT
BEGIN:STANDARD
TZOFFSETFROM:-0500
TZOFFSETTO:-0600
TZNAME:CST
DTSTART:20251102T070000
END:STANDARD
END:VTIMEZONE
BEGIN:VEVENT
DTSTART;TZID=America/Chicago:20240130T170000
DTEND;TZID=America/Chicago:20240130T200000
DTSTAMP:20260419T184038
CREATED:20240131T174015Z
LAST-MODIFIED:20240131T174015Z
UID:6779-1706634000-1706644800@www.sexualviolencecenter.org
SUMMARY:40-Hour Advocacy Training
DESCRIPTION:
URL:https://www.sexualviolencecenter.org/event/40-hour-advocacy-training
LOCATION:SVC Minneapolis Office\, 2600 EAST 25TH STREET\, Minneapolis\, MN\, 55406\, United States
CATEGORIES:Advocacy Training
END:VEVENT
BEGIN:VEVENT
DTSTART;TZID=America/Chicago:20240130T170000
DTEND;TZID=America/Chicago:20240130T200000
DTSTAMP:20260419T184038
CREATED:20240131T174015Z
LAST-MODIFIED:20240131T174015Z
UID:6779-1706634000-1706644800@www.sexualviolencecenter.org
SUMMARY:40-Hour Advocacy Training
DESCRIPTION:
URL:https://www.sexualviolencecenter.org/event/40-hour-advocacy-training
LOCATION:SVC Minneapolis Office\, 2600 EAST 25TH STREET\, Minneapolis\, MN\, 55406\, United States
CATEGORIES:Advocacy Training
END:VEVENT
BEGIN:VEVENT
DTSTART;TZID=America/Chicago:20240130T170000
DTEND;TZID=America/Chicago:20240130T200000
DTSTAMP:20260419T184038
CREATED:20240131T174015Z
LAST-MODIFIED:20240131T174015Z
UID:6779-1706634000-1706644800@www.sexualviolencecenter.org
SUMMARY:40-Hour Advocacy Training
DESCRIPTION:
URL:https://www.sexualviolencecenter.org/event/40-hour-advocacy-training
LOCATION:SVC Minneapolis Office\, 2600 EAST 25TH STREET\, Minneapolis\, MN\, 55406\, United States
CATEGORIES:Advocacy Training
END:VEVENT
BEGIN:VEVENT
DTSTART;TZID=America/Chicago:20240130T170000
DTEND;TZID=America/Chicago:20240130T200000
DTSTAMP:20260419T184038
CREATED:20240131T174015Z
LAST-MODIFIED:20240131T174015Z
UID:6779-1706634000-1706644800@www.sexualviolencecenter.org
SUMMARY:40-Hour Advocacy Training
DESCRIPTION:
URL:https://www.sexualviolencecenter.org/event/40-hour-advocacy-training
LOCATION:SVC Minneapolis Office\, 2600 EAST 25TH STREET\, Minneapolis\, MN\, 55406\, United States
CATEGORIES:Advocacy Training
END:VEVENT
BEGIN:VEVENT
DTSTART;TZID=America/Chicago:20240130T170000
DTEND;TZID=America/Chicago:20240130T200000
DTSTAMP:20260419T184038
CREATED:20240131T174015Z
LAST-MODIFIED:20240131T174015Z
UID:6779-1706634000-1706644800@www.sexualviolencecenter.org
SUMMARY:40-Hour Advocacy Training
DESCRIPTION:
URL:https://www.sexualviolencecenter.org/event/40-hour-advocacy-training
LOCATION:SVC Minneapolis Office\, 2600 EAST 25TH STREET\, Minneapolis\, MN\, 55406\, United States
CATEGORIES:Advocacy Training
END:VEVENT
BEGIN:VEVENT
DTSTART;TZID=America/Chicago:20240130T170000
DTEND;TZID=America/Chicago:20240130T200000
DTSTAMP:20260419T184038
CREATED:20240131T174015Z
LAST-MODIFIED:20240131T174015Z
UID:6779-1706634000-1706644800@www.sexualviolencecenter.org
SUMMARY:40-Hour Advocacy Training
DESCRIPTION:
URL:https://www.sexualviolencecenter.org/event/40-hour-advocacy-training
LOCATION:SVC Minneapolis Office\, 2600 EAST 25TH STREET\, Minneapolis\, MN\, 55406\, United States
CATEGORIES:Advocacy Training
END:VEVENT
BEGIN:VEVENT
DTSTART;TZID=America/Chicago:20240130T170000
DTEND;TZID=America/Chicago:20240130T200000
DTSTAMP:20260419T184038
CREATED:20240131T174015Z
LAST-MODIFIED:20240131T174015Z
UID:6779-1706634000-1706644800@www.sexualviolencecenter.org
SUMMARY:40-Hour Advocacy Training
DESCRIPTION:
URL:https://www.sexualviolencecenter.org/event/40-hour-advocacy-training
LOCATION:SVC Minneapolis Office\, 2600 EAST 25TH STREET\, Minneapolis\, MN\, 55406\, United States
CATEGORIES:Advocacy Training
END:VEVENT
BEGIN:VEVENT
DTSTART;TZID=America/Chicago:20240130T170000
DTEND;TZID=America/Chicago:20240130T200000
DTSTAMP:20260419T184038
CREATED:20240131T174015Z
LAST-MODIFIED:20240131T174015Z
UID:6779-1706634000-1706644800@www.sexualviolencecenter.org
SUMMARY:40-Hour Advocacy Training
DESCRIPTION:
URL:https://www.sexualviolencecenter.org/event/40-hour-advocacy-training
LOCATION:SVC Minneapolis Office\, 2600 EAST 25TH STREET\, Minneapolis\, MN\, 55406\, United States
CATEGORIES:Advocacy Training
END:VEVENT
END:VCALENDAR