BEGIN:VCALENDAR
VERSION:2.0
PRODID:-//Sexual Violence Center - ECPv6.15.20//NONSGML v1.0//EN
CALSCALE:GREGORIAN
METHOD:PUBLISH
X-WR-CALNAME:Sexual Violence Center
X-ORIGINAL-URL:https://www.sexualviolencecenter.org
X-WR-CALDESC:Events for Sexual Violence Center
REFRESH-INTERVAL;VALUE=DURATION:PT1H
X-Robots-Tag:noindex
X-PUBLISHED-TTL:PT1H
BEGIN:VTIMEZONE
TZID:America/Chicago
BEGIN:DAYLIGHT
TZOFFSETFROM:-0600
TZOFFSETTO:-0500
TZNAME:CDT
DTSTART:20230312T080000
END:DAYLIGHT
BEGIN:STANDARD
TZOFFSETFROM:-0500
TZOFFSETTO:-0600
TZNAME:CST
DTSTART:20231105T070000
END:STANDARD
BEGIN:DAYLIGHT
TZOFFSETFROM:-0600
TZOFFSETTO:-0500
TZNAME:CDT
DTSTART:20240310T080000
END:DAYLIGHT
BEGIN:STANDARD
TZOFFSETFROM:-0500
TZOFFSETTO:-0600
TZNAME:CST
DTSTART:20241103T070000
END:STANDARD
BEGIN:DAYLIGHT
TZOFFSETFROM:-0600
TZOFFSETTO:-0500
TZNAME:CDT
DTSTART:20250309T080000
END:DAYLIGHT
BEGIN:STANDARD
TZOFFSETFROM:-0500
TZOFFSETTO:-0600
TZNAME:CST
DTSTART:20251102T070000
END:STANDARD
BEGIN:DAYLIGHT
TZOFFSETFROM:-0600
TZOFFSETTO:-0500
TZNAME:CDT
DTSTART:20260308T080000
END:DAYLIGHT
BEGIN:STANDARD
TZOFFSETFROM:-0500
TZOFFSETTO:-0600
TZNAME:CST
DTSTART:20261101T070000
END:STANDARD
BEGIN:DAYLIGHT
TZOFFSETFROM:-0600
TZOFFSETTO:-0500
TZNAME:CDT
DTSTART:20270314T080000
END:DAYLIGHT
BEGIN:STANDARD
TZOFFSETFROM:-0500
TZOFFSETTO:-0600
TZNAME:CST
DTSTART:20271107T070000
END:STANDARD
END:VTIMEZONE
BEGIN:VEVENT
DTSTART;TZID=America/Chicago:20260128T170000
DTEND;TZID=America/Chicago:20260128T180000
DTSTAMP:20260419T200603
CREATED:20251020T052141Z
LAST-MODIFIED:20251123T060118Z
UID:7808-1769619600-1769623200@www.sexualviolencecenter.org
SUMMARY:Women's Support Group
DESCRIPTION:To sign up\, visit https://www.sexualviolencecenter.org/get-educated/support-groups
URL:https://www.sexualviolencecenter.org/event/womens-support-group-9
LOCATION:MN
CATEGORIES:Support Group
ATTACH;FMTTYPE=image/png:https://www.sexualviolencecenter.org/wp-content/uploads/2025/10/Fall-2025-Womens-Group-Facebook-Post-1.png
ORGANIZER;CN="Sexual Violence Center":MAILTO:support@sexualviolencecenter.org
END:VEVENT
BEGIN:VEVENT
DTSTART;TZID=America/Chicago:20260121T170000
DTEND;TZID=America/Chicago:20260121T180000
DTSTAMP:20260419T200603
CREATED:20251020T052327Z
LAST-MODIFIED:20251123T060021Z
UID:7812-1769014800-1769018400@www.sexualviolencecenter.org
SUMMARY:Women's Support Group
DESCRIPTION:To sign up\, visit https://www.sexualviolencecenter.org/get-educated/support-groups
URL:https://www.sexualviolencecenter.org/event/womens-support-group-11
LOCATION:MN
CATEGORIES:Support Group
ATTACH;FMTTYPE=image/png:https://www.sexualviolencecenter.org/wp-content/uploads/2025/10/Fall-2025-Womens-Group-Facebook-Post-1.png
ORGANIZER;CN="Sexual Violence Center":MAILTO:support@sexualviolencecenter.org
END:VEVENT
BEGIN:VEVENT
DTSTART;TZID=America/Chicago:20260114T170000
DTEND;TZID=America/Chicago:20260114T180000
DTSTAMP:20260419T200603
CREATED:20251020T052058Z
LAST-MODIFIED:20251123T055952Z
UID:7806-1768410000-1768413600@www.sexualviolencecenter.org
SUMMARY:Women's Support Group
DESCRIPTION:To sign up\, visit https://www.sexualviolencecenter.org/get-educated/support-groups
URL:https://www.sexualviolencecenter.org/event/womens-support-group-8
LOCATION:MN
CATEGORIES:Support Group
ATTACH;FMTTYPE=image/png:https://www.sexualviolencecenter.org/wp-content/uploads/2025/10/Fall-2025-Womens-Group-Facebook-Post-1.png
ORGANIZER;CN="Sexual Violence Center":MAILTO:support@sexualviolencecenter.org
END:VEVENT
BEGIN:VEVENT
DTSTART;TZID=America/Chicago:20260107T170000
DTEND;TZID=America/Chicago:20260107T180000
DTSTAMP:20260419T200603
CREATED:20251020T052223Z
LAST-MODIFIED:20251020T052223Z
UID:7810-1767805200-1767808800@www.sexualviolencecenter.org
SUMMARY:Women's Support Group
DESCRIPTION:To sign up\, visit https://www.sexualviolencecenter.org/get-educated/support-groups
URL:https://www.sexualviolencecenter.org/event/womens-support-group-10
LOCATION:MN
CATEGORIES:Support Group
ORGANIZER;CN="Sexual Violence Center":MAILTO:support@sexualviolencecenter.org
END:VEVENT
BEGIN:VEVENT
DTSTART;TZID=America/Chicago:20251218T180000
DTEND;TZID=America/Chicago:20251218T193000
DTSTAMP:20260419T200603
CREATED:20251020T054520Z
LAST-MODIFIED:20251020T054520Z
UID:7839-1766080800-1766086200@www.sexualviolencecenter.org
SUMMARY:Men's Group
DESCRIPTION:Men’s Support Group \nJoin us for our 8-week support group for male-identifying folks who are survivors of sexual assault\, ages 18 and older. The group is free and confidential. Intake is required; call 612-871-5100. \n📅 Thursdays\, 6:00 PM – 7:30 PM📍 Sexual Violence Center\, 2600 E 25th Street\, Suite C\, Minneapolis\, MN \nCome as you are! You are not alone.
URL:https://www.sexualviolencecenter.org/event/mens-group-7
LOCATION:SVC Minneapolis Office\, 2600 EAST 25TH STREET\, Minneapolis\, MN\, 55406\, United States
CATEGORIES:Support Group
ATTACH;FMTTYPE=image/png:https://www.sexualviolencecenter.org/wp-content/uploads/2025/10/Mens-Group-3_2024-1-1.png
ORGANIZER;CN="Sexual Violence Center":MAILTO:support@sexualviolencecenter.org
END:VEVENT
BEGIN:VEVENT
DTSTART;TZID=America/Chicago:20251216T170000
DTEND;TZID=America/Chicago:20251216T180000
DTSTAMP:20260419T200603
CREATED:20251020T052028Z
LAST-MODIFIED:20251020T052028Z
UID:7804-1765904400-1765908000@www.sexualviolencecenter.org
SUMMARY:Women's Support Group
DESCRIPTION:To sign up\, visit https://www.sexualviolencecenter.org/get-educated/support-groups
URL:https://www.sexualviolencecenter.org/event/womens-support-group-7
LOCATION:MN
CATEGORIES:Support Group
ORGANIZER;CN="Sexual Violence Center":MAILTO:support@sexualviolencecenter.org
END:VEVENT
BEGIN:VEVENT
DTSTART;TZID=America/Chicago:20251211T180000
DTEND;TZID=America/Chicago:20251211T193000
DTSTAMP:20260419T200603
CREATED:20251020T054230Z
LAST-MODIFIED:20251020T054450Z
UID:7837-1765476000-1765481400@www.sexualviolencecenter.org
SUMMARY:Men's Group
DESCRIPTION:Men’s Support Group \nJoin us for our 8-week support group for male-identifying folks who are survivors of sexual assault\, ages 18 and older. The group is free and confidential. Intake is required; call 612-871-5100. \n📅 Thursdays\, 6:00 PM – 7:30 PM📍 Sexual Violence Center\, 2600 E 25th Street\, Suite C\, Minneapolis\, MN \nCome as you are! You are not alone.
URL:https://www.sexualviolencecenter.org/event/mens-group-6
LOCATION:SVC Minneapolis Office\, 2600 EAST 25TH STREET\, Minneapolis\, MN\, 55406\, United States
CATEGORIES:Support Group
ATTACH;FMTTYPE=image/png:https://www.sexualviolencecenter.org/wp-content/uploads/2025/10/Mens-Group-3_2024-1-1.png
ORGANIZER;CN="Sexual Violence Center":MAILTO:support@sexualviolencecenter.org
END:VEVENT
BEGIN:VEVENT
DTSTART;TZID=America/Chicago:20251204T180000
DTEND;TZID=America/Chicago:20251204T193000
DTSTAMP:20260419T200603
CREATED:20251020T054139Z
LAST-MODIFIED:20251020T054154Z
UID:7834-1764871200-1764876600@www.sexualviolencecenter.org
SUMMARY:Men's Group
DESCRIPTION:Men’s Support Group \nJoin us for our 8-week support group for male-identifying folks who are survivors of sexual assault\, ages 18 and older. The group is free and confidential. Intake is required; call 612-871-5100. \n📅 Thursdays\, 6:00 PM – 7:30 PM📍 Sexual Violence Center\, 2600 E 25th Street\, Suite C\, Minneapolis\, MN \nCome as you are! You are not alone.
URL:https://www.sexualviolencecenter.org/event/mens-group-5
LOCATION:SVC Minneapolis Office\, 2600 EAST 25TH STREET\, Minneapolis\, MN\, 55406\, United States
CATEGORIES:Support Group
ATTACH;FMTTYPE=image/png:https://www.sexualviolencecenter.org/wp-content/uploads/2025/10/Mens-Group-3_2024-1-1.png
ORGANIZER;CN="Sexual Violence Center":MAILTO:support@sexualviolencecenter.org
END:VEVENT
BEGIN:VEVENT
DTSTART;TZID=America/Chicago:20251202T170000
DTEND;TZID=America/Chicago:20251202T180000
DTSTAMP:20260419T200603
CREATED:20251020T051930Z
LAST-MODIFIED:20251123T055722Z
UID:7800-1764694800-1764698400@www.sexualviolencecenter.org
SUMMARY:Women's Support Group
DESCRIPTION:To sign up\, visit https://www.sexualviolencecenter.org/get-educated/support-groups
URL:https://www.sexualviolencecenter.org/event/womens-support-group-5
LOCATION:MN
CATEGORIES:Support Group
ATTACH;FMTTYPE=image/png:https://www.sexualviolencecenter.org/wp-content/uploads/2025/10/Fall-2025-Womens-Group-Facebook-Post-1.png
ORGANIZER;CN="Sexual Violence Center":MAILTO:support@sexualviolencecenter.org
END:VEVENT
BEGIN:VEVENT
DTSTART;TZID=America/Chicago:20251126T170000
DTEND;TZID=America/Chicago:20251126T180000
DTSTAMP:20260419T200603
CREATED:20251020T051856Z
LAST-MODIFIED:20251123T055559Z
UID:7798-1764176400-1764180000@www.sexualviolencecenter.org
SUMMARY:Women's Support Group
DESCRIPTION:To sign up\, visit https://www.sexualviolencecenter.org/get-educated/support-groups
URL:https://www.sexualviolencecenter.org/event/womens-support-group-4
LOCATION:MN
CATEGORIES:Support Group
ATTACH;FMTTYPE=image/png:https://www.sexualviolencecenter.org/wp-content/uploads/2025/10/Fall-2025-Womens-Group-Facebook-Post-1.png
ORGANIZER;CN="Sexual Violence Center":MAILTO:support@sexualviolencecenter.org
END:VEVENT
BEGIN:VEVENT
DTSTART;TZID=America/Chicago:20251120T180000
DTEND;TZID=America/Chicago:20251120T193000
DTSTAMP:20260419T200603
CREATED:20251020T054108Z
LAST-MODIFIED:20251020T054108Z
UID:7832-1763661600-1763667000@www.sexualviolencecenter.org
SUMMARY:Men's Group
DESCRIPTION:Men’s Support Group \nJoin us for our 8-week support group for male-identifying folks\, who are survivors of sexual assault\, ages 18 and older. The group is free and confidential. Intake is required; call 612-871-5100. \n📅 Thursdays\, 6:00 PM – 7:30 PM📍 Sexual Violence Center\, 2600 E 25th Street\, Suite C\, Minneapolis\, MN \nCome as you are! You are not alone.
URL:https://www.sexualviolencecenter.org/event/mens-group-4
LOCATION:SVC Minneapolis Office\, 2600 EAST 25TH STREET\, Minneapolis\, MN\, 55406\, United States
CATEGORIES:Support Group
ATTACH;FMTTYPE=image/png:https://www.sexualviolencecenter.org/wp-content/uploads/2025/10/Mens-Group-3_2024-1-1.png
ORGANIZER;CN="Sexual Violence Center":MAILTO:support@sexualviolencecenter.org
END:VEVENT
BEGIN:VEVENT
DTSTART;TZID=America/Chicago:20251119T170000
DTEND;TZID=America/Chicago:20251119T180000
DTSTAMP:20260419T200603
CREATED:20251020T051809Z
LAST-MODIFIED:20251020T051809Z
UID:7796-1763571600-1763575200@www.sexualviolencecenter.org
SUMMARY:Women's Support Group
DESCRIPTION:To sign up\, visit https://www.sexualviolencecenter.org/get-educated/support-groups
URL:https://www.sexualviolencecenter.org/event/womens-support-group-3
LOCATION:MN
CATEGORIES:Support Group
ORGANIZER;CN="Sexual Violence Center":MAILTO:support@sexualviolencecenter.org
END:VEVENT
BEGIN:VEVENT
DTSTART;TZID=America/Chicago:20251113T180000
DTEND;TZID=America/Chicago:20251113T193000
DTSTAMP:20260419T200603
CREATED:20251020T054041Z
LAST-MODIFIED:20251020T054041Z
UID:7830-1763056800-1763062200@www.sexualviolencecenter.org
SUMMARY:Men's Group
DESCRIPTION:Men’s Support Group \nJoin us for our 8-week support group for male-identifying folks\, who are survivors of sexual assault\, ages 18 and older. The group is free and confidential. Intake is required; call 612-871-5100. \n📅 Thursdays\, 6:00 PM – 7:30 PM📍 Sexual Violence Center\, 2600 E 25th Street\, Suite C\, Minneapolis\, MN \nCome as you are! You are not alone.
URL:https://www.sexualviolencecenter.org/event/mens-group-3
LOCATION:SVC Minneapolis Office\, 2600 EAST 25TH STREET\, Minneapolis\, MN\, 55406\, United States
CATEGORIES:Support Group
ATTACH;FMTTYPE=image/png:https://www.sexualviolencecenter.org/wp-content/uploads/2025/10/Mens-Group-3_2024-1-1.png
ORGANIZER;CN="Sexual Violence Center":MAILTO:support@sexualviolencecenter.org
END:VEVENT
BEGIN:VEVENT
DTSTART;TZID=America/Chicago:20251112T170000
DTEND;TZID=America/Chicago:20251112T180000
DTSTAMP:20260419T200603
CREATED:20251020T051523Z
LAST-MODIFIED:20251020T051613Z
UID:7789-1762966800-1762970400@www.sexualviolencecenter.org
SUMMARY:Women's Support Group
DESCRIPTION:To sign up\, visit https://www.sexualviolencecenter.org/get-educated/support-groups
URL:https://www.sexualviolencecenter.org/event/womens-support-group-2
LOCATION:MN
CATEGORIES:Support Group
ORGANIZER;CN="Sexual Violence Center":MAILTO:support@sexualviolencecenter.org
END:VEVENT
BEGIN:VEVENT
DTSTART;TZID=America/Chicago:20251106T180000
DTEND;TZID=America/Chicago:20251106T193000
DTSTAMP:20260419T200603
CREATED:20251020T053953Z
LAST-MODIFIED:20251020T053953Z
UID:7828-1762452000-1762457400@www.sexualviolencecenter.org
SUMMARY:Men's Group
DESCRIPTION:Men’s Support Group \nJoin us for our 8-week support group for male-identifying folks\, who are survivors of sexual assault\, ages 18 and older. The group is free and confidential. Intake is required; call 612-871-5100. \n📅 Thursdays\, 6:00 PM – 7:30 PM📍 Sexual Violence Center\, 2600 E 25th Street\, Suite C\, Minneapolis\, MN \nCome as you are! You are not alone.
URL:https://www.sexualviolencecenter.org/event/mens-group-2
LOCATION:SVC Minneapolis Office\, 2600 EAST 25TH STREET\, Minneapolis\, MN\, 55406\, United States
CATEGORIES:Support Group
ATTACH;FMTTYPE=image/png:https://www.sexualviolencecenter.org/wp-content/uploads/2025/10/Mens-Group-3_2024-1-1.png
ORGANIZER;CN="Sexual Violence Center":MAILTO:support@sexualviolencecenter.org
END:VEVENT
BEGIN:VEVENT
DTSTART;TZID=America/Chicago:20251030T180000
DTEND;TZID=America/Chicago:20251030T193000
DTSTAMP:20260419T200603
CREATED:20251020T053856Z
LAST-MODIFIED:20251020T053856Z
UID:7826-1761847200-1761852600@www.sexualviolencecenter.org
SUMMARY:Men's Group
DESCRIPTION:Men’s Support Group \nJoin us for our 8-week support group for male-identifying folks\, who are survivors of sexual assault\, ages 18 and older. The group is free and confidential. Intake is required; call 612-871-5100. \n📅 Thursdays\, 6:00 PM – 7:30 PM📍 Sexual Violence Center\, 2600 E 25th Street\, Suite C\, Minneapolis\, MN \nCome as you are! You are not alone.
URL:https://www.sexualviolencecenter.org/event/mens-group
LOCATION:SVC Minneapolis Office\, 2600 EAST 25TH STREET\, Minneapolis\, MN\, 55406\, United States
CATEGORIES:Support Group
ATTACH;FMTTYPE=image/png:https://www.sexualviolencecenter.org/wp-content/uploads/2025/10/Mens-Group-3_2024-1-1.png
ORGANIZER;CN="Sexual Violence Center":MAILTO:support@sexualviolencecenter.org
END:VEVENT
BEGIN:VEVENT
DTSTART;TZID=America/Chicago:20251016T180000
DTEND;TZID=America/Chicago:20251016T193000
DTSTAMP:20260419T200603
CREATED:20251020T052822Z
LAST-MODIFIED:20251020T053753Z
UID:7814-1760637600-1760643000@www.sexualviolencecenter.org
SUMMARY:Men's Group
DESCRIPTION:Men’s Support Group \nJoin us for our 8-week support group for male-identifying folks\, who are survivors of sexual assault\, ages 18 and older. The group is free and confidential. Intake is required; call 612-871-5100. \n📅 Thursdays\, 6:00 PM – 7:30 PM📍 Sexual Violence Center\, 2600 E 25th Street\, Suite C\, Minneapolis\, MN \nCome as you are! You are not alone.
URL:https://www.sexualviolencecenter.org/event/7814
LOCATION:SVC Minneapolis Office\, 2600 EAST 25TH STREET\, Minneapolis\, MN\, 55406\, United States
CATEGORIES:Support Group
ATTACH;FMTTYPE=image/png:https://www.sexualviolencecenter.org/wp-content/uploads/2025/10/Mens-Group-3_2024-1-1.png
ORGANIZER;CN="Sexual Violence Center":MAILTO:support@sexualviolencecenter.org
END:VEVENT
BEGIN:VEVENT
DTSTART;TZID=America/Chicago:20250217T180000
DTEND;TZID=America/Chicago:20250217T190000
DTSTAMP:20260419T200603
CREATED:20250211T152756Z
LAST-MODIFIED:20250211T152842Z
UID:7625-1739815200-1739818800@www.sexualviolencecenter.org
SUMMARY:Men's Support Group
DESCRIPTION:
URL:https://www.sexualviolencecenter.org/event/mens-support-group-3
LOCATION:SVC Minneapolis Office\, 2600 EAST 25TH STREET\, Minneapolis\, MN\, 55406\, United States
CATEGORIES:Support Group
ATTACH;FMTTYPE=image/png:https://www.sexualviolencecenter.org/wp-content/uploads/2025/02/mens-support-group-2.png
ORGANIZER;CN="Sexual Violence Center":MAILTO:support@sexualviolencecenter.org
END:VEVENT
BEGIN:VEVENT
DTSTART;TZID=America/Chicago:20250217T180000
DTEND;TZID=America/Chicago:20250217T190000
DTSTAMP:20260419T200603
CREATED:20250211T152756Z
LAST-MODIFIED:20250211T152842Z
UID:7625-1739815200-1739818800@www.sexualviolencecenter.org
SUMMARY:Men's Support Group
DESCRIPTION:
URL:https://www.sexualviolencecenter.org/event/mens-support-group-3
LOCATION:SVC Minneapolis Office\, 2600 EAST 25TH STREET\, Minneapolis\, MN\, 55406\, United States
CATEGORIES:Support Group
ATTACH;FMTTYPE=image/png:https://www.sexualviolencecenter.org/wp-content/uploads/2025/02/mens-support-group-2.png
ORGANIZER;CN="Sexual Violence Center":MAILTO:support@sexualviolencecenter.org
END:VEVENT
BEGIN:VEVENT
DTSTART;TZID=America/Chicago:20250217T180000
DTEND;TZID=America/Chicago:20250217T190000
DTSTAMP:20260419T200603
CREATED:20250211T152756Z
LAST-MODIFIED:20250211T152842Z
UID:7625-1739815200-1739818800@www.sexualviolencecenter.org
SUMMARY:Men's Support Group
DESCRIPTION:
URL:https://www.sexualviolencecenter.org/event/mens-support-group-3
LOCATION:SVC Minneapolis Office\, 2600 EAST 25TH STREET\, Minneapolis\, MN\, 55406\, United States
CATEGORIES:Support Group
ATTACH;FMTTYPE=image/png:https://www.sexualviolencecenter.org/wp-content/uploads/2025/02/mens-support-group-2.png
ORGANIZER;CN="Sexual Violence Center":MAILTO:support@sexualviolencecenter.org
END:VEVENT
BEGIN:VEVENT
DTSTART;TZID=America/Chicago:20250217T180000
DTEND;TZID=America/Chicago:20250217T190000
DTSTAMP:20260419T200603
CREATED:20250211T152756Z
LAST-MODIFIED:20250211T152842Z
UID:7625-1739815200-1739818800@www.sexualviolencecenter.org
SUMMARY:Men's Support Group
DESCRIPTION:
URL:https://www.sexualviolencecenter.org/event/mens-support-group-3
LOCATION:SVC Minneapolis Office\, 2600 EAST 25TH STREET\, Minneapolis\, MN\, 55406\, United States
CATEGORIES:Support Group
ATTACH;FMTTYPE=image/png:https://www.sexualviolencecenter.org/wp-content/uploads/2025/02/mens-support-group-2.png
ORGANIZER;CN="Sexual Violence Center":MAILTO:support@sexualviolencecenter.org
END:VEVENT
BEGIN:VEVENT
DTSTART;TZID=America/Chicago:20250217T180000
DTEND;TZID=America/Chicago:20250217T190000
DTSTAMP:20260419T200603
CREATED:20250211T152756Z
LAST-MODIFIED:20250211T152842Z
UID:7625-1739815200-1739818800@www.sexualviolencecenter.org
SUMMARY:Men's Support Group
DESCRIPTION:
URL:https://www.sexualviolencecenter.org/event/mens-support-group-3
LOCATION:SVC Minneapolis Office\, 2600 EAST 25TH STREET\, Minneapolis\, MN\, 55406\, United States
CATEGORIES:Support Group
ATTACH;FMTTYPE=image/png:https://www.sexualviolencecenter.org/wp-content/uploads/2025/02/mens-support-group-2.png
ORGANIZER;CN="Sexual Violence Center":MAILTO:support@sexualviolencecenter.org
END:VEVENT
BEGIN:VEVENT
DTSTART;TZID=America/Chicago:20250217T180000
DTEND;TZID=America/Chicago:20250217T190000
DTSTAMP:20260419T200603
CREATED:20250211T152756Z
LAST-MODIFIED:20250211T152842Z
UID:7625-1739815200-1739818800@www.sexualviolencecenter.org
SUMMARY:Men's Support Group
DESCRIPTION:
URL:https://www.sexualviolencecenter.org/event/mens-support-group-3
LOCATION:SVC Minneapolis Office\, 2600 EAST 25TH STREET\, Minneapolis\, MN\, 55406\, United States
CATEGORIES:Support Group
ATTACH;FMTTYPE=image/png:https://www.sexualviolencecenter.org/wp-content/uploads/2025/02/mens-support-group-2.png
ORGANIZER;CN="Sexual Violence Center":MAILTO:support@sexualviolencecenter.org
END:VEVENT
BEGIN:VEVENT
DTSTART;TZID=America/Chicago:20250217T180000
DTEND;TZID=America/Chicago:20250217T190000
DTSTAMP:20260419T200603
CREATED:20250211T152756Z
LAST-MODIFIED:20250211T152842Z
UID:7625-1739815200-1739818800@www.sexualviolencecenter.org
SUMMARY:Men's Support Group
DESCRIPTION:
URL:https://www.sexualviolencecenter.org/event/mens-support-group-3
LOCATION:SVC Minneapolis Office\, 2600 EAST 25TH STREET\, Minneapolis\, MN\, 55406\, United States
CATEGORIES:Support Group
ATTACH;FMTTYPE=image/png:https://www.sexualviolencecenter.org/wp-content/uploads/2025/02/mens-support-group-2.png
ORGANIZER;CN="Sexual Violence Center":MAILTO:support@sexualviolencecenter.org
END:VEVENT
BEGIN:VEVENT
DTSTART;TZID=America/Chicago:20250217T180000
DTEND;TZID=America/Chicago:20250217T190000
DTSTAMP:20260419T200603
CREATED:20250211T152756Z
LAST-MODIFIED:20250211T152842Z
UID:7625-1739815200-1739818800@www.sexualviolencecenter.org
SUMMARY:Men's Support Group
DESCRIPTION:
URL:https://www.sexualviolencecenter.org/event/mens-support-group-3
LOCATION:SVC Minneapolis Office\, 2600 EAST 25TH STREET\, Minneapolis\, MN\, 55406\, United States
CATEGORIES:Support Group
ATTACH;FMTTYPE=image/png:https://www.sexualviolencecenter.org/wp-content/uploads/2025/02/mens-support-group-2.png
ORGANIZER;CN="Sexual Violence Center":MAILTO:support@sexualviolencecenter.org
END:VEVENT
BEGIN:VEVENT
DTSTART;TZID=America/Chicago:20250217T180000
DTEND;TZID=America/Chicago:20250217T190000
DTSTAMP:20260419T200603
CREATED:20250211T152756Z
LAST-MODIFIED:20250211T152842Z
UID:7625-1739815200-1739818800@www.sexualviolencecenter.org
SUMMARY:Men's Support Group
DESCRIPTION:
URL:https://www.sexualviolencecenter.org/event/mens-support-group-3
LOCATION:SVC Minneapolis Office\, 2600 EAST 25TH STREET\, Minneapolis\, MN\, 55406\, United States
CATEGORIES:Support Group
ATTACH;FMTTYPE=image/png:https://www.sexualviolencecenter.org/wp-content/uploads/2025/02/mens-support-group-2.png
ORGANIZER;CN="Sexual Violence Center":MAILTO:support@sexualviolencecenter.org
END:VEVENT
BEGIN:VEVENT
DTSTART;TZID=America/Chicago:20250217T180000
DTEND;TZID=America/Chicago:20250217T190000
DTSTAMP:20260419T200603
CREATED:20250211T152756Z
LAST-MODIFIED:20250211T152842Z
UID:7625-1739815200-1739818800@www.sexualviolencecenter.org
SUMMARY:Men's Support Group
DESCRIPTION:
URL:https://www.sexualviolencecenter.org/event/mens-support-group-3
LOCATION:SVC Minneapolis Office\, 2600 EAST 25TH STREET\, Minneapolis\, MN\, 55406\, United States
CATEGORIES:Support Group
ATTACH;FMTTYPE=image/png:https://www.sexualviolencecenter.org/wp-content/uploads/2025/02/mens-support-group-2.png
ORGANIZER;CN="Sexual Violence Center":MAILTO:support@sexualviolencecenter.org
END:VEVENT
BEGIN:VEVENT
DTSTART;TZID=America/Chicago:20250123T173000
DTEND;TZID=America/Chicago:20250123T183000
DTSTAMP:20260419T200603
CREATED:20250108T201535Z
LAST-MODIFIED:20250108T201603Z
UID:7605-1737653400-1737657000@www.sexualviolencecenter.org
SUMMARY:Drop-In Support Group
DESCRIPTION:
URL:https://www.sexualviolencecenter.org/event/drop-in-support-group-7
LOCATION:SVC Minneapolis Office\, 2600 EAST 25TH STREET\, Minneapolis\, MN\, 55406\, United States
CATEGORIES:Support Group
ATTACH;FMTTYPE=image/png:https://www.sexualviolencecenter.org/wp-content/uploads/2024/11/Drop-In-Support-Group-Flyer-Instagram-Post.png
ORGANIZER;CN="Sexual Violence Center":MAILTO:support@sexualviolencecenter.org
END:VEVENT
BEGIN:VEVENT
DTSTART;TZID=America/Chicago:20241205T173000
DTEND;TZID=America/Chicago:20241205T183000
DTSTAMP:20260419T200603
CREATED:20241126T193340Z
LAST-MODIFIED:20250108T201848Z
UID:7439-1733419800-1733423400@www.sexualviolencecenter.org
SUMMARY:Drop-In Support Group
DESCRIPTION:
URL:https://www.sexualviolencecenter.org/event/drop-in-support-group-4
LOCATION:SVC Minneapolis Office\, 2600 EAST 25TH STREET\, Minneapolis\, MN\, 55406\, United States
CATEGORIES:Support Group
ATTACH;FMTTYPE=image/png:https://www.sexualviolencecenter.org/wp-content/uploads/2024/11/Drop-In-Support-Group-Flyer-Instagram-Post.png
ORGANIZER;CN="Sexual Violence Center":MAILTO:support@sexualviolencecenter.org
END:VEVENT
BEGIN:VEVENT
DTSTART;TZID=America/Chicago:20240725T173000
DTEND;TZID=America/Chicago:20240725T183000
DTSTAMP:20260419T200603
CREATED:20240624T195010Z
LAST-MODIFIED:20240624T205828Z
UID:7003-1721928600-1721932200@www.sexualviolencecenter.org
SUMMARY:Queer Survivors Group
DESCRIPTION:🌈 Join us for our upcoming 10-week support group tailored for queer survivors of sexual violence ages 18+. \nGroup starts July 25th! \n🗓️ Thursdays\, 5:30 PM – 6:30 PM\n📍 Location: 2600 E 25th St. Suite C\, Minneapolis 55406 \nSpaces are limited\, so reserve your spot today! \nTo join: https://www.sexualviolencecenter.org/support-group-interest-form
URL:https://www.sexualviolencecenter.org/event/queer-survivors-group
LOCATION:SVC Minneapolis Office\, 2600 EAST 25TH STREET\, Minneapolis\, MN\, 55406\, United States
CATEGORIES:Support Group
ATTACH;FMTTYPE=image/png:https://www.sexualviolencecenter.org/wp-content/uploads/2024/06/Sexual-violence-center-600-x-400-px-1.png
ORGANIZER;CN="Sexual Violence Center":MAILTO:support@sexualviolencecenter.org
END:VEVENT
END:VCALENDAR