BEGIN:VCALENDAR
VERSION:2.0
PRODID:-//Sexual Violence Center - ECPv6.15.20//NONSGML v1.0//EN
CALSCALE:GREGORIAN
METHOD:PUBLISH
X-ORIGINAL-URL:https://www.sexualviolencecenter.org
X-WR-CALDESC:Events for Sexual Violence Center
REFRESH-INTERVAL;VALUE=DURATION:PT1H
X-Robots-Tag:noindex
X-PUBLISHED-TTL:PT1H
BEGIN:VTIMEZONE
TZID:America/Chicago
BEGIN:DAYLIGHT
TZOFFSETFROM:-0600
TZOFFSETTO:-0500
TZNAME:CDT
DTSTART:20230312T080000
END:DAYLIGHT
BEGIN:STANDARD
TZOFFSETFROM:-0500
TZOFFSETTO:-0600
TZNAME:CST
DTSTART:20231105T070000
END:STANDARD
BEGIN:DAYLIGHT
TZOFFSETFROM:-0600
TZOFFSETTO:-0500
TZNAME:CDT
DTSTART:20240310T080000
END:DAYLIGHT
BEGIN:STANDARD
TZOFFSETFROM:-0500
TZOFFSETTO:-0600
TZNAME:CST
DTSTART:20241103T070000
END:STANDARD
BEGIN:DAYLIGHT
TZOFFSETFROM:-0600
TZOFFSETTO:-0500
TZNAME:CDT
DTSTART:20250309T080000
END:DAYLIGHT
BEGIN:STANDARD
TZOFFSETFROM:-0500
TZOFFSETTO:-0600
TZNAME:CST
DTSTART:20251102T070000
END:STANDARD
BEGIN:DAYLIGHT
TZOFFSETFROM:-0600
TZOFFSETTO:-0500
TZNAME:CDT
DTSTART:20260308T080000
END:DAYLIGHT
BEGIN:STANDARD
TZOFFSETFROM:-0500
TZOFFSETTO:-0600
TZNAME:CST
DTSTART:20261101T070000
END:STANDARD
END:VTIMEZONE
BEGIN:VEVENT
DTSTART;TZID=America/Chicago:20251113T180000
DTEND;TZID=America/Chicago:20251113T193000
DTSTAMP:20260419T214008
CREATED:20251020T054041Z
LAST-MODIFIED:20251020T054041Z
UID:7830-1763056800-1763062200@www.sexualviolencecenter.org
SUMMARY:Men's Group
DESCRIPTION:Men’s Support Group \nJoin us for our 8-week support group for male-identifying folks\, who are survivors of sexual assault\, ages 18 and older. The group is free and confidential. Intake is required; call 612-871-5100. \n📅 Thursdays\, 6:00 PM – 7:30 PM📍 Sexual Violence Center\, 2600 E 25th Street\, Suite C\, Minneapolis\, MN \nCome as you are! You are not alone.
URL:https://www.sexualviolencecenter.org/event/mens-group-3
LOCATION:SVC Minneapolis Office\, 2600 EAST 25TH STREET\, Minneapolis\, MN\, 55406\, United States
CATEGORIES:Support Group
ATTACH;FMTTYPE=image/png:https://www.sexualviolencecenter.org/wp-content/uploads/2025/10/Mens-Group-3_2024-1-1.png
ORGANIZER;CN="Sexual Violence Center":MAILTO:support@sexualviolencecenter.org
END:VEVENT
BEGIN:VEVENT
DTSTART;TZID=America/Chicago:20251112T170000
DTEND;TZID=America/Chicago:20251112T180000
DTSTAMP:20260419T214008
CREATED:20251020T051523Z
LAST-MODIFIED:20251020T051613Z
UID:7789-1762966800-1762970400@www.sexualviolencecenter.org
SUMMARY:Women's Support Group
DESCRIPTION:To sign up\, visit https://www.sexualviolencecenter.org/get-educated/support-groups
URL:https://www.sexualviolencecenter.org/event/womens-support-group-2
CATEGORIES:Support Group
ORGANIZER;CN="Sexual Violence Center":MAILTO:support@sexualviolencecenter.org
END:VEVENT
BEGIN:VEVENT
DTSTART;TZID=America/Chicago:20251106T180000
DTEND;TZID=America/Chicago:20251106T193000
DTSTAMP:20260419T214008
CREATED:20251020T053953Z
LAST-MODIFIED:20251020T053953Z
UID:7828-1762452000-1762457400@www.sexualviolencecenter.org
SUMMARY:Men's Group
DESCRIPTION:Men’s Support Group \nJoin us for our 8-week support group for male-identifying folks\, who are survivors of sexual assault\, ages 18 and older. The group is free and confidential. Intake is required; call 612-871-5100. \n📅 Thursdays\, 6:00 PM – 7:30 PM📍 Sexual Violence Center\, 2600 E 25th Street\, Suite C\, Minneapolis\, MN \nCome as you are! You are not alone.
URL:https://www.sexualviolencecenter.org/event/mens-group-2
LOCATION:SVC Minneapolis Office\, 2600 EAST 25TH STREET\, Minneapolis\, MN\, 55406\, United States
CATEGORIES:Support Group
ATTACH;FMTTYPE=image/png:https://www.sexualviolencecenter.org/wp-content/uploads/2025/10/Mens-Group-3_2024-1-1.png
ORGANIZER;CN="Sexual Violence Center":MAILTO:support@sexualviolencecenter.org
END:VEVENT
BEGIN:VEVENT
DTSTART;TZID=America/Chicago:20251030T180000
DTEND;TZID=America/Chicago:20251030T193000
DTSTAMP:20260419T214008
CREATED:20251020T053856Z
LAST-MODIFIED:20251020T053856Z
UID:7826-1761847200-1761852600@www.sexualviolencecenter.org
SUMMARY:Men's Group
DESCRIPTION:Men’s Support Group \nJoin us for our 8-week support group for male-identifying folks\, who are survivors of sexual assault\, ages 18 and older. The group is free and confidential. Intake is required; call 612-871-5100. \n📅 Thursdays\, 6:00 PM – 7:30 PM📍 Sexual Violence Center\, 2600 E 25th Street\, Suite C\, Minneapolis\, MN \nCome as you are! You are not alone.
URL:https://www.sexualviolencecenter.org/event/mens-group
LOCATION:SVC Minneapolis Office\, 2600 EAST 25TH STREET\, Minneapolis\, MN\, 55406\, United States
CATEGORIES:Support Group
ATTACH;FMTTYPE=image/png:https://www.sexualviolencecenter.org/wp-content/uploads/2025/10/Mens-Group-3_2024-1-1.png
ORGANIZER;CN="Sexual Violence Center":MAILTO:support@sexualviolencecenter.org
END:VEVENT
BEGIN:VEVENT
DTSTART;TZID=America/Chicago:20251016T180000
DTEND;TZID=America/Chicago:20251016T193000
DTSTAMP:20260419T214008
CREATED:20251020T052822Z
LAST-MODIFIED:20251020T053753Z
UID:7814-1760637600-1760643000@www.sexualviolencecenter.org
SUMMARY:Men's Group
DESCRIPTION:Men’s Support Group \nJoin us for our 8-week support group for male-identifying folks\, who are survivors of sexual assault\, ages 18 and older. The group is free and confidential. Intake is required; call 612-871-5100. \n📅 Thursdays\, 6:00 PM – 7:30 PM📍 Sexual Violence Center\, 2600 E 25th Street\, Suite C\, Minneapolis\, MN \nCome as you are! You are not alone.
URL:https://www.sexualviolencecenter.org/event/7814
LOCATION:SVC Minneapolis Office\, 2600 EAST 25TH STREET\, Minneapolis\, MN\, 55406\, United States
CATEGORIES:Support Group
ATTACH;FMTTYPE=image/png:https://www.sexualviolencecenter.org/wp-content/uploads/2025/10/Mens-Group-3_2024-1-1.png
ORGANIZER;CN="Sexual Violence Center":MAILTO:support@sexualviolencecenter.org
END:VEVENT
BEGIN:VEVENT
DTSTART;TZID=America/Chicago:20250217T180000
DTEND;TZID=America/Chicago:20250217T190000
DTSTAMP:20260419T214008
CREATED:20250211T152756Z
LAST-MODIFIED:20250211T152842Z
UID:7625-1739815200-1739818800@www.sexualviolencecenter.org
SUMMARY:Men's Support Group
DESCRIPTION:
URL:https://www.sexualviolencecenter.org/event/mens-support-group-3
LOCATION:SVC Minneapolis Office\, 2600 EAST 25TH STREET\, Minneapolis\, MN\, 55406\, United States
CATEGORIES:Support Group
ATTACH;FMTTYPE=image/png:https://www.sexualviolencecenter.org/wp-content/uploads/2025/02/mens-support-group-2.png
ORGANIZER;CN="Sexual Violence Center":MAILTO:support@sexualviolencecenter.org
END:VEVENT
BEGIN:VEVENT
DTSTART;TZID=America/Chicago:20250217T180000
DTEND;TZID=America/Chicago:20250217T190000
DTSTAMP:20260419T214008
CREATED:20250211T152756Z
LAST-MODIFIED:20250211T152842Z
UID:7625-1739815200-1739818800@www.sexualviolencecenter.org
SUMMARY:Men's Support Group
DESCRIPTION:
URL:https://www.sexualviolencecenter.org/event/mens-support-group-3
LOCATION:SVC Minneapolis Office\, 2600 EAST 25TH STREET\, Minneapolis\, MN\, 55406\, United States
CATEGORIES:Support Group
ATTACH;FMTTYPE=image/png:https://www.sexualviolencecenter.org/wp-content/uploads/2025/02/mens-support-group-2.png
ORGANIZER;CN="Sexual Violence Center":MAILTO:support@sexualviolencecenter.org
END:VEVENT
BEGIN:VEVENT
DTSTART;TZID=America/Chicago:20250217T180000
DTEND;TZID=America/Chicago:20250217T190000
DTSTAMP:20260419T214008
CREATED:20250211T152756Z
LAST-MODIFIED:20250211T152842Z
UID:7625-1739815200-1739818800@www.sexualviolencecenter.org
SUMMARY:Men's Support Group
DESCRIPTION:
URL:https://www.sexualviolencecenter.org/event/mens-support-group-3
LOCATION:SVC Minneapolis Office\, 2600 EAST 25TH STREET\, Minneapolis\, MN\, 55406\, United States
CATEGORIES:Support Group
ATTACH;FMTTYPE=image/png:https://www.sexualviolencecenter.org/wp-content/uploads/2025/02/mens-support-group-2.png
ORGANIZER;CN="Sexual Violence Center":MAILTO:support@sexualviolencecenter.org
END:VEVENT
BEGIN:VEVENT
DTSTART;TZID=America/Chicago:20250217T180000
DTEND;TZID=America/Chicago:20250217T190000
DTSTAMP:20260419T214008
CREATED:20250211T152756Z
LAST-MODIFIED:20250211T152842Z
UID:7625-1739815200-1739818800@www.sexualviolencecenter.org
SUMMARY:Men's Support Group
DESCRIPTION:
URL:https://www.sexualviolencecenter.org/event/mens-support-group-3
LOCATION:SVC Minneapolis Office\, 2600 EAST 25TH STREET\, Minneapolis\, MN\, 55406\, United States
CATEGORIES:Support Group
ATTACH;FMTTYPE=image/png:https://www.sexualviolencecenter.org/wp-content/uploads/2025/02/mens-support-group-2.png
ORGANIZER;CN="Sexual Violence Center":MAILTO:support@sexualviolencecenter.org
END:VEVENT
BEGIN:VEVENT
DTSTART;TZID=America/Chicago:20250217T180000
DTEND;TZID=America/Chicago:20250217T190000
DTSTAMP:20260419T214008
CREATED:20250211T152756Z
LAST-MODIFIED:20250211T152842Z
UID:7625-1739815200-1739818800@www.sexualviolencecenter.org
SUMMARY:Men's Support Group
DESCRIPTION:
URL:https://www.sexualviolencecenter.org/event/mens-support-group-3
LOCATION:SVC Minneapolis Office\, 2600 EAST 25TH STREET\, Minneapolis\, MN\, 55406\, United States
CATEGORIES:Support Group
ATTACH;FMTTYPE=image/png:https://www.sexualviolencecenter.org/wp-content/uploads/2025/02/mens-support-group-2.png
ORGANIZER;CN="Sexual Violence Center":MAILTO:support@sexualviolencecenter.org
END:VEVENT
BEGIN:VEVENT
DTSTART;TZID=America/Chicago:20250217T180000
DTEND;TZID=America/Chicago:20250217T190000
DTSTAMP:20260419T214008
CREATED:20250211T152756Z
LAST-MODIFIED:20250211T152842Z
UID:7625-1739815200-1739818800@www.sexualviolencecenter.org
SUMMARY:Men's Support Group
DESCRIPTION:
URL:https://www.sexualviolencecenter.org/event/mens-support-group-3
LOCATION:SVC Minneapolis Office\, 2600 EAST 25TH STREET\, Minneapolis\, MN\, 55406\, United States
CATEGORIES:Support Group
ATTACH;FMTTYPE=image/png:https://www.sexualviolencecenter.org/wp-content/uploads/2025/02/mens-support-group-2.png
ORGANIZER;CN="Sexual Violence Center":MAILTO:support@sexualviolencecenter.org
END:VEVENT
BEGIN:VEVENT
DTSTART;TZID=America/Chicago:20250217T180000
DTEND;TZID=America/Chicago:20250217T190000
DTSTAMP:20260419T214009
CREATED:20250211T152756Z
LAST-MODIFIED:20250211T152842Z
UID:7625-1739815200-1739818800@www.sexualviolencecenter.org
SUMMARY:Men's Support Group
DESCRIPTION:
URL:https://www.sexualviolencecenter.org/event/mens-support-group-3
LOCATION:SVC Minneapolis Office\, 2600 EAST 25TH STREET\, Minneapolis\, MN\, 55406\, United States
CATEGORIES:Support Group
ATTACH;FMTTYPE=image/png:https://www.sexualviolencecenter.org/wp-content/uploads/2025/02/mens-support-group-2.png
ORGANIZER;CN="Sexual Violence Center":MAILTO:support@sexualviolencecenter.org
END:VEVENT
BEGIN:VEVENT
DTSTART;TZID=America/Chicago:20250217T180000
DTEND;TZID=America/Chicago:20250217T190000
DTSTAMP:20260419T214009
CREATED:20250211T152756Z
LAST-MODIFIED:20250211T152842Z
UID:7625-1739815200-1739818800@www.sexualviolencecenter.org
SUMMARY:Men's Support Group
DESCRIPTION:
URL:https://www.sexualviolencecenter.org/event/mens-support-group-3
LOCATION:SVC Minneapolis Office\, 2600 EAST 25TH STREET\, Minneapolis\, MN\, 55406\, United States
CATEGORIES:Support Group
ATTACH;FMTTYPE=image/png:https://www.sexualviolencecenter.org/wp-content/uploads/2025/02/mens-support-group-2.png
ORGANIZER;CN="Sexual Violence Center":MAILTO:support@sexualviolencecenter.org
END:VEVENT
BEGIN:VEVENT
DTSTART;TZID=America/Chicago:20250217T180000
DTEND;TZID=America/Chicago:20250217T190000
DTSTAMP:20260419T214009
CREATED:20250211T152756Z
LAST-MODIFIED:20250211T152842Z
UID:7625-1739815200-1739818800@www.sexualviolencecenter.org
SUMMARY:Men's Support Group
DESCRIPTION:
URL:https://www.sexualviolencecenter.org/event/mens-support-group-3
LOCATION:SVC Minneapolis Office\, 2600 EAST 25TH STREET\, Minneapolis\, MN\, 55406\, United States
CATEGORIES:Support Group
ATTACH;FMTTYPE=image/png:https://www.sexualviolencecenter.org/wp-content/uploads/2025/02/mens-support-group-2.png
ORGANIZER;CN="Sexual Violence Center":MAILTO:support@sexualviolencecenter.org
END:VEVENT
BEGIN:VEVENT
DTSTART;TZID=America/Chicago:20250217T180000
DTEND;TZID=America/Chicago:20250217T190000
DTSTAMP:20260419T214009
CREATED:20250211T152756Z
LAST-MODIFIED:20250211T152842Z
UID:7625-1739815200-1739818800@www.sexualviolencecenter.org
SUMMARY:Men's Support Group
DESCRIPTION:
URL:https://www.sexualviolencecenter.org/event/mens-support-group-3
LOCATION:SVC Minneapolis Office\, 2600 EAST 25TH STREET\, Minneapolis\, MN\, 55406\, United States
CATEGORIES:Support Group
ATTACH;FMTTYPE=image/png:https://www.sexualviolencecenter.org/wp-content/uploads/2025/02/mens-support-group-2.png
ORGANIZER;CN="Sexual Violence Center":MAILTO:support@sexualviolencecenter.org
END:VEVENT
BEGIN:VEVENT
DTSTART;TZID=America/Chicago:20250123T173000
DTEND;TZID=America/Chicago:20250123T183000
DTSTAMP:20260419T214009
CREATED:20250108T201535Z
LAST-MODIFIED:20250108T201603Z
UID:7605-1737653400-1737657000@www.sexualviolencecenter.org
SUMMARY:Drop-In Support Group
DESCRIPTION:
URL:https://www.sexualviolencecenter.org/event/drop-in-support-group-7
LOCATION:SVC Minneapolis Office\, 2600 EAST 25TH STREET\, Minneapolis\, MN\, 55406\, United States
CATEGORIES:Support Group
ATTACH;FMTTYPE=image/png:https://www.sexualviolencecenter.org/wp-content/uploads/2024/11/Drop-In-Support-Group-Flyer-Instagram-Post.png
ORGANIZER;CN="Sexual Violence Center":MAILTO:support@sexualviolencecenter.org
END:VEVENT
BEGIN:VEVENT
DTSTART;TZID=America/Chicago:20241205T173000
DTEND;TZID=America/Chicago:20241205T183000
DTSTAMP:20260419T214009
CREATED:20241126T193340Z
LAST-MODIFIED:20250108T201848Z
UID:7439-1733419800-1733423400@www.sexualviolencecenter.org
SUMMARY:Drop-In Support Group
DESCRIPTION:
URL:https://www.sexualviolencecenter.org/event/drop-in-support-group-4
LOCATION:SVC Minneapolis Office\, 2600 EAST 25TH STREET\, Minneapolis\, MN\, 55406\, United States
CATEGORIES:Support Group
ATTACH;FMTTYPE=image/png:https://www.sexualviolencecenter.org/wp-content/uploads/2024/11/Drop-In-Support-Group-Flyer-Instagram-Post.png
ORGANIZER;CN="Sexual Violence Center":MAILTO:support@sexualviolencecenter.org
END:VEVENT
BEGIN:VEVENT
DTSTART;TZID=America/Chicago:20240725T173000
DTEND;TZID=America/Chicago:20240725T183000
DTSTAMP:20260419T214009
CREATED:20240624T195010Z
LAST-MODIFIED:20240624T205828Z
UID:7003-1721928600-1721932200@www.sexualviolencecenter.org
SUMMARY:Queer Survivors Group
DESCRIPTION:🌈 Join us for our upcoming 10-week support group tailored for queer survivors of sexual violence ages 18+. \nGroup starts July 25th! \n🗓️ Thursdays\, 5:30 PM – 6:30 PM\n📍 Location: 2600 E 25th St. Suite C\, Minneapolis 55406 \nSpaces are limited\, so reserve your spot today! \nTo join: https://www.sexualviolencecenter.org/support-group-interest-form
URL:https://www.sexualviolencecenter.org/event/queer-survivors-group
LOCATION:SVC Minneapolis Office\, 2600 EAST 25TH STREET\, Minneapolis\, MN\, 55406\, United States
CATEGORIES:Support Group
ATTACH;FMTTYPE=image/png:https://www.sexualviolencecenter.org/wp-content/uploads/2024/06/Sexual-violence-center-600-x-400-px-1.png
ORGANIZER;CN="Sexual Violence Center":MAILTO:support@sexualviolencecenter.org
END:VEVENT
BEGIN:VEVENT
DTSTART;TZID=America/Chicago:20240725T173000
DTEND;TZID=America/Chicago:20240725T183000
DTSTAMP:20260419T214009
CREATED:20240624T195010Z
LAST-MODIFIED:20240624T205828Z
UID:7003-1721928600-1721932200@www.sexualviolencecenter.org
SUMMARY:Queer Survivors Group
DESCRIPTION:🌈 Join us for our upcoming 10-week support group tailored for queer survivors of sexual violence ages 18+. \nGroup starts July 25th! \n🗓️ Thursdays\, 5:30 PM – 6:30 PM\n📍 Location: 2600 E 25th St. Suite C\, Minneapolis 55406 \nSpaces are limited\, so reserve your spot today! \nTo join: https://www.sexualviolencecenter.org/support-group-interest-form
URL:https://www.sexualviolencecenter.org/event/queer-survivors-group
LOCATION:SVC Minneapolis Office\, 2600 EAST 25TH STREET\, Minneapolis\, MN\, 55406\, United States
CATEGORIES:Support Group
ATTACH;FMTTYPE=image/png:https://www.sexualviolencecenter.org/wp-content/uploads/2024/06/Sexual-violence-center-600-x-400-px-1.png
ORGANIZER;CN="Sexual Violence Center":MAILTO:support@sexualviolencecenter.org
END:VEVENT
BEGIN:VEVENT
DTSTART;TZID=America/Chicago:20240725T173000
DTEND;TZID=America/Chicago:20240725T183000
DTSTAMP:20260419T214009
CREATED:20240624T195010Z
LAST-MODIFIED:20240624T205828Z
UID:7003-1721928600-1721932200@www.sexualviolencecenter.org
SUMMARY:Queer Survivors Group
DESCRIPTION:🌈 Join us for our upcoming 10-week support group tailored for queer survivors of sexual violence ages 18+. \nGroup starts July 25th! \n🗓️ Thursdays\, 5:30 PM – 6:30 PM\n📍 Location: 2600 E 25th St. Suite C\, Minneapolis 55406 \nSpaces are limited\, so reserve your spot today! \nTo join: https://www.sexualviolencecenter.org/support-group-interest-form
URL:https://www.sexualviolencecenter.org/event/queer-survivors-group
LOCATION:SVC Minneapolis Office\, 2600 EAST 25TH STREET\, Minneapolis\, MN\, 55406\, United States
CATEGORIES:Support Group
ATTACH;FMTTYPE=image/png:https://www.sexualviolencecenter.org/wp-content/uploads/2024/06/Sexual-violence-center-600-x-400-px-1.png
ORGANIZER;CN="Sexual Violence Center":MAILTO:support@sexualviolencecenter.org
END:VEVENT
BEGIN:VEVENT
DTSTART;TZID=America/Chicago:20240725T173000
DTEND;TZID=America/Chicago:20240725T183000
DTSTAMP:20260419T214009
CREATED:20240624T195010Z
LAST-MODIFIED:20240624T205828Z
UID:7003-1721928600-1721932200@www.sexualviolencecenter.org
SUMMARY:Queer Survivors Group
DESCRIPTION:🌈 Join us for our upcoming 10-week support group tailored for queer survivors of sexual violence ages 18+. \nGroup starts July 25th! \n🗓️ Thursdays\, 5:30 PM – 6:30 PM\n📍 Location: 2600 E 25th St. Suite C\, Minneapolis 55406 \nSpaces are limited\, so reserve your spot today! \nTo join: https://www.sexualviolencecenter.org/support-group-interest-form
URL:https://www.sexualviolencecenter.org/event/queer-survivors-group
LOCATION:SVC Minneapolis Office\, 2600 EAST 25TH STREET\, Minneapolis\, MN\, 55406\, United States
CATEGORIES:Support Group
ATTACH;FMTTYPE=image/png:https://www.sexualviolencecenter.org/wp-content/uploads/2024/06/Sexual-violence-center-600-x-400-px-1.png
ORGANIZER;CN="Sexual Violence Center":MAILTO:support@sexualviolencecenter.org
END:VEVENT
BEGIN:VEVENT
DTSTART;TZID=America/Chicago:20240725T173000
DTEND;TZID=America/Chicago:20240725T183000
DTSTAMP:20260419T214009
CREATED:20240624T195010Z
LAST-MODIFIED:20240624T205828Z
UID:7003-1721928600-1721932200@www.sexualviolencecenter.org
SUMMARY:Queer Survivors Group
DESCRIPTION:🌈 Join us for our upcoming 10-week support group tailored for queer survivors of sexual violence ages 18+. \nGroup starts July 25th! \n🗓️ Thursdays\, 5:30 PM – 6:30 PM\n📍 Location: 2600 E 25th St. Suite C\, Minneapolis 55406 \nSpaces are limited\, so reserve your spot today! \nTo join: https://www.sexualviolencecenter.org/support-group-interest-form
URL:https://www.sexualviolencecenter.org/event/queer-survivors-group
LOCATION:SVC Minneapolis Office\, 2600 EAST 25TH STREET\, Minneapolis\, MN\, 55406\, United States
CATEGORIES:Support Group
ATTACH;FMTTYPE=image/png:https://www.sexualviolencecenter.org/wp-content/uploads/2024/06/Sexual-violence-center-600-x-400-px-1.png
ORGANIZER;CN="Sexual Violence Center":MAILTO:support@sexualviolencecenter.org
END:VEVENT
BEGIN:VEVENT
DTSTART;TZID=America/Chicago:20240626T173000
DTEND;TZID=America/Chicago:20240626T183000
DTSTAMP:20260419T214009
CREATED:20240624T152855Z
LAST-MODIFIED:20240624T193325Z
UID:6990-1719423000-1719426600@www.sexualviolencecenter.org
SUMMARY:Drop-In Support Group
DESCRIPTION:🌟 Join us for our upcoming drop-in support group for survivors of sexual violence\, starting June 26th! 🌟 \n🗓️ When: Wednesdays\, 5:30 PM – 6:30 PM\n📍 Where: Our Minneapolis office\, 2600 E 25th Street\, Suite C\, Minneapolis\, MN 55406\n👥 Who: 18+ survivors\n💰 Cost: FREE 💬 No commitment required—attend any session that works for you. \nCome as you are\, when you can. We’re here to support you. 💜
URL:https://www.sexualviolencecenter.org/event/drop-in-support-group-3
LOCATION:SVC Minneapolis Office\, 2600 EAST 25TH STREET\, Minneapolis\, MN\, 55406\, United States
CATEGORIES:Support Group
ATTACH;FMTTYPE=image/png:https://www.sexualviolencecenter.org/wp-content/uploads/2024/06/Drop-In-Support-Group-Flyer-Twitter-Header-1.png
END:VEVENT
BEGIN:VEVENT
DTSTART;TZID=America/Chicago:20240725T173000
DTEND;TZID=America/Chicago:20240725T183000
DTSTAMP:20260419T214009
CREATED:20240624T195010Z
LAST-MODIFIED:20240624T205828Z
UID:7003-1721928600-1721932200@www.sexualviolencecenter.org
SUMMARY:Queer Survivors Group
DESCRIPTION:🌈 Join us for our upcoming 10-week support group tailored for queer survivors of sexual violence ages 18+. \nGroup starts July 25th! \n🗓️ Thursdays\, 5:30 PM – 6:30 PM\n📍 Location: 2600 E 25th St. Suite C\, Minneapolis 55406 \nSpaces are limited\, so reserve your spot today! \nTo join: https://www.sexualviolencecenter.org/support-group-interest-form
URL:https://www.sexualviolencecenter.org/event/queer-survivors-group
LOCATION:SVC Minneapolis Office\, 2600 EAST 25TH STREET\, Minneapolis\, MN\, 55406\, United States
CATEGORIES:Support Group
ATTACH;FMTTYPE=image/png:https://www.sexualviolencecenter.org/wp-content/uploads/2024/06/Sexual-violence-center-600-x-400-px-1.png
ORGANIZER;CN="Sexual Violence Center":MAILTO:support@sexualviolencecenter.org
END:VEVENT
BEGIN:VEVENT
DTSTART;TZID=America/Chicago:20240626T173000
DTEND;TZID=America/Chicago:20240626T183000
DTSTAMP:20260419T214009
CREATED:20240624T152855Z
LAST-MODIFIED:20240624T193325Z
UID:6990-1719423000-1719426600@www.sexualviolencecenter.org
SUMMARY:Drop-In Support Group
DESCRIPTION:🌟 Join us for our upcoming drop-in support group for survivors of sexual violence\, starting June 26th! 🌟 \n🗓️ When: Wednesdays\, 5:30 PM – 6:30 PM\n📍 Where: Our Minneapolis office\, 2600 E 25th Street\, Suite C\, Minneapolis\, MN 55406\n👥 Who: 18+ survivors\n💰 Cost: FREE 💬 No commitment required—attend any session that works for you. \nCome as you are\, when you can. We’re here to support you. 💜
URL:https://www.sexualviolencecenter.org/event/drop-in-support-group-3
LOCATION:SVC Minneapolis Office\, 2600 EAST 25TH STREET\, Minneapolis\, MN\, 55406\, United States
CATEGORIES:Support Group
ATTACH;FMTTYPE=image/png:https://www.sexualviolencecenter.org/wp-content/uploads/2024/06/Drop-In-Support-Group-Flyer-Twitter-Header-1.png
END:VEVENT
BEGIN:VEVENT
DTSTART;TZID=America/Chicago:20240725T173000
DTEND;TZID=America/Chicago:20240725T183000
DTSTAMP:20260419T214009
CREATED:20240624T195010Z
LAST-MODIFIED:20240624T205828Z
UID:7003-1721928600-1721932200@www.sexualviolencecenter.org
SUMMARY:Queer Survivors Group
DESCRIPTION:🌈 Join us for our upcoming 10-week support group tailored for queer survivors of sexual violence ages 18+. \nGroup starts July 25th! \n🗓️ Thursdays\, 5:30 PM – 6:30 PM\n📍 Location: 2600 E 25th St. Suite C\, Minneapolis 55406 \nSpaces are limited\, so reserve your spot today! \nTo join: https://www.sexualviolencecenter.org/support-group-interest-form
URL:https://www.sexualviolencecenter.org/event/queer-survivors-group
LOCATION:SVC Minneapolis Office\, 2600 EAST 25TH STREET\, Minneapolis\, MN\, 55406\, United States
CATEGORIES:Support Group
ATTACH;FMTTYPE=image/png:https://www.sexualviolencecenter.org/wp-content/uploads/2024/06/Sexual-violence-center-600-x-400-px-1.png
ORGANIZER;CN="Sexual Violence Center":MAILTO:support@sexualviolencecenter.org
END:VEVENT
BEGIN:VEVENT
DTSTART;TZID=America/Chicago:20240626T173000
DTEND;TZID=America/Chicago:20240626T183000
DTSTAMP:20260419T214009
CREATED:20240624T152855Z
LAST-MODIFIED:20240624T193325Z
UID:6990-1719423000-1719426600@www.sexualviolencecenter.org
SUMMARY:Drop-In Support Group
DESCRIPTION:🌟 Join us for our upcoming drop-in support group for survivors of sexual violence\, starting June 26th! 🌟 \n🗓️ When: Wednesdays\, 5:30 PM – 6:30 PM\n📍 Where: Our Minneapolis office\, 2600 E 25th Street\, Suite C\, Minneapolis\, MN 55406\n👥 Who: 18+ survivors\n💰 Cost: FREE 💬 No commitment required—attend any session that works for you. \nCome as you are\, when you can. We’re here to support you. 💜
URL:https://www.sexualviolencecenter.org/event/drop-in-support-group-3
LOCATION:SVC Minneapolis Office\, 2600 EAST 25TH STREET\, Minneapolis\, MN\, 55406\, United States
CATEGORIES:Support Group
ATTACH;FMTTYPE=image/png:https://www.sexualviolencecenter.org/wp-content/uploads/2024/06/Drop-In-Support-Group-Flyer-Twitter-Header-1.png
END:VEVENT
BEGIN:VEVENT
DTSTART;TZID=America/Chicago:20240725T173000
DTEND;TZID=America/Chicago:20240725T183000
DTSTAMP:20260419T214009
CREATED:20240624T195010Z
LAST-MODIFIED:20240624T205828Z
UID:7003-1721928600-1721932200@www.sexualviolencecenter.org
SUMMARY:Queer Survivors Group
DESCRIPTION:🌈 Join us for our upcoming 10-week support group tailored for queer survivors of sexual violence ages 18+. \nGroup starts July 25th! \n🗓️ Thursdays\, 5:30 PM – 6:30 PM\n📍 Location: 2600 E 25th St. Suite C\, Minneapolis 55406 \nSpaces are limited\, so reserve your spot today! \nTo join: https://www.sexualviolencecenter.org/support-group-interest-form
URL:https://www.sexualviolencecenter.org/event/queer-survivors-group
LOCATION:SVC Minneapolis Office\, 2600 EAST 25TH STREET\, Minneapolis\, MN\, 55406\, United States
CATEGORIES:Support Group
ATTACH;FMTTYPE=image/png:https://www.sexualviolencecenter.org/wp-content/uploads/2024/06/Sexual-violence-center-600-x-400-px-1.png
ORGANIZER;CN="Sexual Violence Center":MAILTO:support@sexualviolencecenter.org
END:VEVENT
BEGIN:VEVENT
DTSTART;TZID=America/Chicago:20240626T173000
DTEND;TZID=America/Chicago:20240626T183000
DTSTAMP:20260419T214009
CREATED:20240624T152855Z
LAST-MODIFIED:20240624T193325Z
UID:6990-1719423000-1719426600@www.sexualviolencecenter.org
SUMMARY:Drop-In Support Group
DESCRIPTION:🌟 Join us for our upcoming drop-in support group for survivors of sexual violence\, starting June 26th! 🌟 \n🗓️ When: Wednesdays\, 5:30 PM – 6:30 PM\n📍 Where: Our Minneapolis office\, 2600 E 25th Street\, Suite C\, Minneapolis\, MN 55406\n👥 Who: 18+ survivors\n💰 Cost: FREE 💬 No commitment required—attend any session that works for you. \nCome as you are\, when you can. We’re here to support you. 💜
URL:https://www.sexualviolencecenter.org/event/drop-in-support-group-3
LOCATION:SVC Minneapolis Office\, 2600 EAST 25TH STREET\, Minneapolis\, MN\, 55406\, United States
CATEGORIES:Support Group
ATTACH;FMTTYPE=image/png:https://www.sexualviolencecenter.org/wp-content/uploads/2024/06/Drop-In-Support-Group-Flyer-Twitter-Header-1.png
END:VEVENT
BEGIN:VEVENT
DTSTART;TZID=America/Chicago:20240725T173000
DTEND;TZID=America/Chicago:20240725T183000
DTSTAMP:20260419T214009
CREATED:20240624T195010Z
LAST-MODIFIED:20240624T205828Z
UID:7003-1721928600-1721932200@www.sexualviolencecenter.org
SUMMARY:Queer Survivors Group
DESCRIPTION:🌈 Join us for our upcoming 10-week support group tailored for queer survivors of sexual violence ages 18+. \nGroup starts July 25th! \n🗓️ Thursdays\, 5:30 PM – 6:30 PM\n📍 Location: 2600 E 25th St. Suite C\, Minneapolis 55406 \nSpaces are limited\, so reserve your spot today! \nTo join: https://www.sexualviolencecenter.org/support-group-interest-form
URL:https://www.sexualviolencecenter.org/event/queer-survivors-group
LOCATION:SVC Minneapolis Office\, 2600 EAST 25TH STREET\, Minneapolis\, MN\, 55406\, United States
CATEGORIES:Support Group
ATTACH;FMTTYPE=image/png:https://www.sexualviolencecenter.org/wp-content/uploads/2024/06/Sexual-violence-center-600-x-400-px-1.png
ORGANIZER;CN="Sexual Violence Center":MAILTO:support@sexualviolencecenter.org
END:VEVENT
END:VCALENDAR