BEGIN:VCALENDAR
VERSION:2.0
PRODID:-//Sexual Violence Center - ECPv6.15.20//NONSGML v1.0//EN
CALSCALE:GREGORIAN
METHOD:PUBLISH
X-WR-CALNAME:Sexual Violence Center
X-ORIGINAL-URL:https://www.sexualviolencecenter.org
X-WR-CALDESC:Events for Sexual Violence Center
REFRESH-INTERVAL;VALUE=DURATION:PT1H
X-Robots-Tag:noindex
X-PUBLISHED-TTL:PT1H
BEGIN:VTIMEZONE
TZID:America/Chicago
BEGIN:DAYLIGHT
TZOFFSETFROM:-0600
TZOFFSETTO:-0500
TZNAME:CDT
DTSTART:20220313T080000
END:DAYLIGHT
BEGIN:STANDARD
TZOFFSETFROM:-0500
TZOFFSETTO:-0600
TZNAME:CST
DTSTART:20221106T070000
END:STANDARD
BEGIN:DAYLIGHT
TZOFFSETFROM:-0600
TZOFFSETTO:-0500
TZNAME:CDT
DTSTART:20230312T080000
END:DAYLIGHT
BEGIN:STANDARD
TZOFFSETFROM:-0500
TZOFFSETTO:-0600
TZNAME:CST
DTSTART:20231105T070000
END:STANDARD
BEGIN:DAYLIGHT
TZOFFSETFROM:-0600
TZOFFSETTO:-0500
TZNAME:CDT
DTSTART:20240310T080000
END:DAYLIGHT
BEGIN:STANDARD
TZOFFSETFROM:-0500
TZOFFSETTO:-0600
TZNAME:CST
DTSTART:20241103T070000
END:STANDARD
BEGIN:DAYLIGHT
TZOFFSETFROM:-0600
TZOFFSETTO:-0500
TZNAME:CDT
DTSTART:20250309T080000
END:DAYLIGHT
BEGIN:STANDARD
TZOFFSETFROM:-0500
TZOFFSETTO:-0600
TZNAME:CST
DTSTART:20251102T070000
END:STANDARD
END:VTIMEZONE
BEGIN:VEVENT
DTSTART;TZID=America/Chicago:20240626T173000
DTEND;TZID=America/Chicago:20240626T183000
DTSTAMP:20260420T010541
CREATED:20240624T152855Z
LAST-MODIFIED:20240624T193325Z
UID:6990-1719423000-1719426600@www.sexualviolencecenter.org
SUMMARY:Drop-In Support Group
DESCRIPTION:🌟 Join us for our upcoming drop-in support group for survivors of sexual violence\, starting June 26th! 🌟 \n🗓️ When: Wednesdays\, 5:30 PM – 6:30 PM\n📍 Where: Our Minneapolis office\, 2600 E 25th Street\, Suite C\, Minneapolis\, MN 55406\n👥 Who: 18+ survivors\n💰 Cost: FREE 💬 No commitment required—attend any session that works for you. \nCome as you are\, when you can. We’re here to support you. 💜
URL:https://www.sexualviolencecenter.org/event/drop-in-support-group-3
LOCATION:SVC Minneapolis Office\, 2600 EAST 25TH STREET\, Minneapolis\, MN\, 55406\, United States
CATEGORIES:Support Group
ATTACH;FMTTYPE=image/png:https://www.sexualviolencecenter.org/wp-content/uploads/2024/06/Drop-In-Support-Group-Flyer-Twitter-Header-1.png
END:VEVENT
BEGIN:VEVENT
DTSTART;TZID=America/Chicago:20240306T123000
DTEND;TZID=America/Chicago:20240306T133000
DTSTAMP:20260420T010541
CREATED:20240228T175816Z
LAST-MODIFIED:20240228T182656Z
UID:6809-1709728200-1709731800@www.sexualviolencecenter.org
SUMMARY:Women's Support Group
DESCRIPTION:This is a closed group. Registration and intake is required.
URL:https://www.sexualviolencecenter.org/event/womens-support-group
LOCATION:SVC Minneapolis Office\, 2600 EAST 25TH STREET\, Minneapolis\, MN\, 55406\, United States
CATEGORIES:Support Group
ATTACH;FMTTYPE=image/jpeg:https://www.sexualviolencecenter.org/wp-content/uploads/2024/02/423862058_937493407937928_6854711909017983333_n.jpg
END:VEVENT
BEGIN:VEVENT
DTSTART;TZID=America/Chicago:20240306T123000
DTEND;TZID=America/Chicago:20240306T133000
DTSTAMP:20260420T010541
CREATED:20240228T175816Z
LAST-MODIFIED:20240228T182656Z
UID:6809-1709728200-1709731800@www.sexualviolencecenter.org
SUMMARY:Women's Support Group
DESCRIPTION:This is a closed group. Registration and intake is required.
URL:https://www.sexualviolencecenter.org/event/womens-support-group
LOCATION:SVC Minneapolis Office\, 2600 EAST 25TH STREET\, Minneapolis\, MN\, 55406\, United States
CATEGORIES:Support Group
ATTACH;FMTTYPE=image/jpeg:https://www.sexualviolencecenter.org/wp-content/uploads/2024/02/423862058_937493407937928_6854711909017983333_n.jpg
END:VEVENT
BEGIN:VEVENT
DTSTART;TZID=America/Chicago:20240306T123000
DTEND;TZID=America/Chicago:20240306T133000
DTSTAMP:20260420T010541
CREATED:20240228T175816Z
LAST-MODIFIED:20240228T182656Z
UID:6809-1709728200-1709731800@www.sexualviolencecenter.org
SUMMARY:Women's Support Group
DESCRIPTION:This is a closed group. Registration and intake is required.
URL:https://www.sexualviolencecenter.org/event/womens-support-group
LOCATION:SVC Minneapolis Office\, 2600 EAST 25TH STREET\, Minneapolis\, MN\, 55406\, United States
CATEGORIES:Support Group
ATTACH;FMTTYPE=image/jpeg:https://www.sexualviolencecenter.org/wp-content/uploads/2024/02/423862058_937493407937928_6854711909017983333_n.jpg
END:VEVENT
BEGIN:VEVENT
DTSTART;TZID=America/Chicago:20240306T123000
DTEND;TZID=America/Chicago:20240306T133000
DTSTAMP:20260420T010541
CREATED:20240228T175816Z
LAST-MODIFIED:20240228T182656Z
UID:6809-1709728200-1709731800@www.sexualviolencecenter.org
SUMMARY:Women's Support Group
DESCRIPTION:This is a closed group. Registration and intake is required.
URL:https://www.sexualviolencecenter.org/event/womens-support-group
LOCATION:SVC Minneapolis Office\, 2600 EAST 25TH STREET\, Minneapolis\, MN\, 55406\, United States
CATEGORIES:Support Group
ATTACH;FMTTYPE=image/jpeg:https://www.sexualviolencecenter.org/wp-content/uploads/2024/02/423862058_937493407937928_6854711909017983333_n.jpg
END:VEVENT
BEGIN:VEVENT
DTSTART;TZID=America/Chicago:20240306T123000
DTEND;TZID=America/Chicago:20240306T133000
DTSTAMP:20260420T010541
CREATED:20240228T175816Z
LAST-MODIFIED:20240228T182656Z
UID:6809-1709728200-1709731800@www.sexualviolencecenter.org
SUMMARY:Women's Support Group
DESCRIPTION:This is a closed group. Registration and intake is required.
URL:https://www.sexualviolencecenter.org/event/womens-support-group
LOCATION:SVC Minneapolis Office\, 2600 EAST 25TH STREET\, Minneapolis\, MN\, 55406\, United States
CATEGORIES:Support Group
ATTACH;FMTTYPE=image/jpeg:https://www.sexualviolencecenter.org/wp-content/uploads/2024/02/423862058_937493407937928_6854711909017983333_n.jpg
END:VEVENT
BEGIN:VEVENT
DTSTART;TZID=America/Chicago:20240306T123000
DTEND;TZID=America/Chicago:20240306T133000
DTSTAMP:20260420T010541
CREATED:20240228T175816Z
LAST-MODIFIED:20240228T182656Z
UID:6809-1709728200-1709731800@www.sexualviolencecenter.org
SUMMARY:Women's Support Group
DESCRIPTION:This is a closed group. Registration and intake is required.
URL:https://www.sexualviolencecenter.org/event/womens-support-group
LOCATION:SVC Minneapolis Office\, 2600 EAST 25TH STREET\, Minneapolis\, MN\, 55406\, United States
CATEGORIES:Support Group
ATTACH;FMTTYPE=image/jpeg:https://www.sexualviolencecenter.org/wp-content/uploads/2024/02/423862058_937493407937928_6854711909017983333_n.jpg
END:VEVENT
BEGIN:VEVENT
DTSTART;TZID=America/Chicago:20240306T123000
DTEND;TZID=America/Chicago:20240306T133000
DTSTAMP:20260420T010541
CREATED:20240228T175816Z
LAST-MODIFIED:20240228T182656Z
UID:6809-1709728200-1709731800@www.sexualviolencecenter.org
SUMMARY:Women's Support Group
DESCRIPTION:This is a closed group. Registration and intake is required.
URL:https://www.sexualviolencecenter.org/event/womens-support-group
LOCATION:SVC Minneapolis Office\, 2600 EAST 25TH STREET\, Minneapolis\, MN\, 55406\, United States
CATEGORIES:Support Group
ATTACH;FMTTYPE=image/jpeg:https://www.sexualviolencecenter.org/wp-content/uploads/2024/02/423862058_937493407937928_6854711909017983333_n.jpg
END:VEVENT
BEGIN:VEVENT
DTSTART;TZID=America/Chicago:20240306T123000
DTEND;TZID=America/Chicago:20240306T133000
DTSTAMP:20260420T010541
CREATED:20240228T175816Z
LAST-MODIFIED:20240228T182656Z
UID:6809-1709728200-1709731800@www.sexualviolencecenter.org
SUMMARY:Women's Support Group
DESCRIPTION:This is a closed group. Registration and intake is required.
URL:https://www.sexualviolencecenter.org/event/womens-support-group
LOCATION:SVC Minneapolis Office\, 2600 EAST 25TH STREET\, Minneapolis\, MN\, 55406\, United States
CATEGORIES:Support Group
ATTACH;FMTTYPE=image/jpeg:https://www.sexualviolencecenter.org/wp-content/uploads/2024/02/423862058_937493407937928_6854711909017983333_n.jpg
END:VEVENT
BEGIN:VEVENT
DTSTART;TZID=America/Chicago:20240306T123000
DTEND;TZID=America/Chicago:20240306T133000
DTSTAMP:20260420T010541
CREATED:20240228T175816Z
LAST-MODIFIED:20240228T182656Z
UID:6809-1709728200-1709731800@www.sexualviolencecenter.org
SUMMARY:Women's Support Group
DESCRIPTION:This is a closed group. Registration and intake is required.
URL:https://www.sexualviolencecenter.org/event/womens-support-group
LOCATION:SVC Minneapolis Office\, 2600 EAST 25TH STREET\, Minneapolis\, MN\, 55406\, United States
CATEGORIES:Support Group
ATTACH;FMTTYPE=image/jpeg:https://www.sexualviolencecenter.org/wp-content/uploads/2024/02/423862058_937493407937928_6854711909017983333_n.jpg
END:VEVENT
BEGIN:VEVENT
DTSTART;TZID=America/Chicago:20240306T123000
DTEND;TZID=America/Chicago:20240306T133000
DTSTAMP:20260420T010541
CREATED:20240228T175816Z
LAST-MODIFIED:20240228T182656Z
UID:6809-1709728200-1709731800@www.sexualviolencecenter.org
SUMMARY:Women's Support Group
DESCRIPTION:This is a closed group. Registration and intake is required.
URL:https://www.sexualviolencecenter.org/event/womens-support-group
LOCATION:SVC Minneapolis Office\, 2600 EAST 25TH STREET\, Minneapolis\, MN\, 55406\, United States
CATEGORIES:Support Group
ATTACH;FMTTYPE=image/jpeg:https://www.sexualviolencecenter.org/wp-content/uploads/2024/02/423862058_937493407937928_6854711909017983333_n.jpg
END:VEVENT
BEGIN:VEVENT
DTSTART;TZID=America/Chicago:20230522T170000
DTEND;TZID=America/Chicago:20230522T180000
DTSTAMP:20260420T010541
CREATED:20230612T184624Z
LAST-MODIFIED:20230817T194322Z
UID:6448-1684774800-1684778400@www.sexualviolencecenter.org
SUMMARY:Support Group: Drop-In
DESCRIPTION:Mondays 5:00 PM – 6:00 PM \nIn-Person \n2600 East 25th Street\, Suite C\nMinneapolis\, MN 55406 \nIf you plan to attend\, please give us a call at 612-871-5111.
URL:https://www.sexualviolencecenter.org/event/drop-in-support-group-2
LOCATION:SVC Minneapolis Office\, 2600 EAST 25TH STREET\, Minneapolis\, MN\, 55406\, United States
CATEGORIES:Support Group
ATTACH;FMTTYPE=image/png:https://www.sexualviolencecenter.org/wp-content/uploads/2023/06/SVC-Drop-In-Group-Social-Media.png
END:VEVENT
BEGIN:VEVENT
DTSTART;TZID=America/Chicago:20230522T170000
DTEND;TZID=America/Chicago:20230522T180000
DTSTAMP:20260420T010541
CREATED:20230612T184624Z
LAST-MODIFIED:20230817T194322Z
UID:6448-1684774800-1684778400@www.sexualviolencecenter.org
SUMMARY:Support Group: Drop-In
DESCRIPTION:Mondays 5:00 PM – 6:00 PM \nIn-Person \n2600 East 25th Street\, Suite C\nMinneapolis\, MN 55406 \nIf you plan to attend\, please give us a call at 612-871-5111.
URL:https://www.sexualviolencecenter.org/event/drop-in-support-group-2
LOCATION:SVC Minneapolis Office\, 2600 EAST 25TH STREET\, Minneapolis\, MN\, 55406\, United States
CATEGORIES:Support Group
ATTACH;FMTTYPE=image/png:https://www.sexualviolencecenter.org/wp-content/uploads/2023/06/SVC-Drop-In-Group-Social-Media.png
END:VEVENT
BEGIN:VEVENT
DTSTART;TZID=America/Chicago:20230522T170000
DTEND;TZID=America/Chicago:20230522T180000
DTSTAMP:20260420T010541
CREATED:20230612T184624Z
LAST-MODIFIED:20230817T194322Z
UID:6448-1684774800-1684778400@www.sexualviolencecenter.org
SUMMARY:Support Group: Drop-In
DESCRIPTION:Mondays 5:00 PM – 6:00 PM \nIn-Person \n2600 East 25th Street\, Suite C\nMinneapolis\, MN 55406 \nIf you plan to attend\, please give us a call at 612-871-5111.
URL:https://www.sexualviolencecenter.org/event/drop-in-support-group-2
LOCATION:SVC Minneapolis Office\, 2600 EAST 25TH STREET\, Minneapolis\, MN\, 55406\, United States
CATEGORIES:Support Group
ATTACH;FMTTYPE=image/png:https://www.sexualviolencecenter.org/wp-content/uploads/2023/06/SVC-Drop-In-Group-Social-Media.png
END:VEVENT
BEGIN:VEVENT
DTSTART;TZID=America/Chicago:20230522T170000
DTEND;TZID=America/Chicago:20230522T180000
DTSTAMP:20260420T010541
CREATED:20230612T184624Z
LAST-MODIFIED:20230817T194322Z
UID:6448-1684774800-1684778400@www.sexualviolencecenter.org
SUMMARY:Support Group: Drop-In
DESCRIPTION:Mondays 5:00 PM – 6:00 PM \nIn-Person \n2600 East 25th Street\, Suite C\nMinneapolis\, MN 55406 \nIf you plan to attend\, please give us a call at 612-871-5111.
URL:https://www.sexualviolencecenter.org/event/drop-in-support-group-2
LOCATION:SVC Minneapolis Office\, 2600 EAST 25TH STREET\, Minneapolis\, MN\, 55406\, United States
CATEGORIES:Support Group
ATTACH;FMTTYPE=image/png:https://www.sexualviolencecenter.org/wp-content/uploads/2023/06/SVC-Drop-In-Group-Social-Media.png
END:VEVENT
BEGIN:VEVENT
DTSTART;TZID=America/Chicago:20230522T170000
DTEND;TZID=America/Chicago:20230522T180000
DTSTAMP:20260420T010541
CREATED:20230612T184624Z
LAST-MODIFIED:20230817T194322Z
UID:6448-1684774800-1684778400@www.sexualviolencecenter.org
SUMMARY:Support Group: Drop-In
DESCRIPTION:Mondays 5:00 PM – 6:00 PM \nIn-Person \n2600 East 25th Street\, Suite C\nMinneapolis\, MN 55406 \nIf you plan to attend\, please give us a call at 612-871-5111.
URL:https://www.sexualviolencecenter.org/event/drop-in-support-group-2
LOCATION:SVC Minneapolis Office\, 2600 EAST 25TH STREET\, Minneapolis\, MN\, 55406\, United States
CATEGORIES:Support Group
ATTACH;FMTTYPE=image/png:https://www.sexualviolencecenter.org/wp-content/uploads/2023/06/SVC-Drop-In-Group-Social-Media.png
END:VEVENT
BEGIN:VEVENT
DTSTART;TZID=America/Chicago:20230522T170000
DTEND;TZID=America/Chicago:20230522T180000
DTSTAMP:20260420T010541
CREATED:20230612T184624Z
LAST-MODIFIED:20230817T194322Z
UID:6448-1684774800-1684778400@www.sexualviolencecenter.org
SUMMARY:Support Group: Drop-In
DESCRIPTION:Mondays 5:00 PM – 6:00 PM \nIn-Person \n2600 East 25th Street\, Suite C\nMinneapolis\, MN 55406 \nIf you plan to attend\, please give us a call at 612-871-5111.
URL:https://www.sexualviolencecenter.org/event/drop-in-support-group-2
LOCATION:SVC Minneapolis Office\, 2600 EAST 25TH STREET\, Minneapolis\, MN\, 55406\, United States
CATEGORIES:Support Group
ATTACH;FMTTYPE=image/png:https://www.sexualviolencecenter.org/wp-content/uploads/2023/06/SVC-Drop-In-Group-Social-Media.png
END:VEVENT
BEGIN:VEVENT
DTSTART;TZID=America/Chicago:20230522T170000
DTEND;TZID=America/Chicago:20230522T180000
DTSTAMP:20260420T010541
CREATED:20230612T184624Z
LAST-MODIFIED:20230817T194322Z
UID:6448-1684774800-1684778400@www.sexualviolencecenter.org
SUMMARY:Support Group: Drop-In
DESCRIPTION:Mondays 5:00 PM – 6:00 PM \nIn-Person \n2600 East 25th Street\, Suite C\nMinneapolis\, MN 55406 \nIf you plan to attend\, please give us a call at 612-871-5111.
URL:https://www.sexualviolencecenter.org/event/drop-in-support-group-2
LOCATION:SVC Minneapolis Office\, 2600 EAST 25TH STREET\, Minneapolis\, MN\, 55406\, United States
CATEGORIES:Support Group
ATTACH;FMTTYPE=image/png:https://www.sexualviolencecenter.org/wp-content/uploads/2023/06/SVC-Drop-In-Group-Social-Media.png
END:VEVENT
BEGIN:VEVENT
DTSTART;TZID=America/Chicago:20230522T170000
DTEND;TZID=America/Chicago:20230522T180000
DTSTAMP:20260420T010541
CREATED:20230612T184624Z
LAST-MODIFIED:20230817T194322Z
UID:6448-1684774800-1684778400@www.sexualviolencecenter.org
SUMMARY:Support Group: Drop-In
DESCRIPTION:Mondays 5:00 PM – 6:00 PM \nIn-Person \n2600 East 25th Street\, Suite C\nMinneapolis\, MN 55406 \nIf you plan to attend\, please give us a call at 612-871-5111.
URL:https://www.sexualviolencecenter.org/event/drop-in-support-group-2
LOCATION:SVC Minneapolis Office\, 2600 EAST 25TH STREET\, Minneapolis\, MN\, 55406\, United States
CATEGORIES:Support Group
ATTACH;FMTTYPE=image/png:https://www.sexualviolencecenter.org/wp-content/uploads/2023/06/SVC-Drop-In-Group-Social-Media.png
END:VEVENT
BEGIN:VEVENT
DTSTART;TZID=America/Chicago:20230522T170000
DTEND;TZID=America/Chicago:20230522T180000
DTSTAMP:20260420T010541
CREATED:20230612T184624Z
LAST-MODIFIED:20230817T194322Z
UID:6448-1684774800-1684778400@www.sexualviolencecenter.org
SUMMARY:Support Group: Drop-In
DESCRIPTION:Mondays 5:00 PM – 6:00 PM \nIn-Person \n2600 East 25th Street\, Suite C\nMinneapolis\, MN 55406 \nIf you plan to attend\, please give us a call at 612-871-5111.
URL:https://www.sexualviolencecenter.org/event/drop-in-support-group-2
LOCATION:SVC Minneapolis Office\, 2600 EAST 25TH STREET\, Minneapolis\, MN\, 55406\, United States
CATEGORIES:Support Group
ATTACH;FMTTYPE=image/png:https://www.sexualviolencecenter.org/wp-content/uploads/2023/06/SVC-Drop-In-Group-Social-Media.png
END:VEVENT
BEGIN:VEVENT
DTSTART;TZID=America/Chicago:20230522T170000
DTEND;TZID=America/Chicago:20230522T180000
DTSTAMP:20260420T010541
CREATED:20230612T184624Z
LAST-MODIFIED:20230817T194322Z
UID:6448-1684774800-1684778400@www.sexualviolencecenter.org
SUMMARY:Support Group: Drop-In
DESCRIPTION:Mondays 5:00 PM – 6:00 PM \nIn-Person \n2600 East 25th Street\, Suite C\nMinneapolis\, MN 55406 \nIf you plan to attend\, please give us a call at 612-871-5111.
URL:https://www.sexualviolencecenter.org/event/drop-in-support-group-2
LOCATION:SVC Minneapolis Office\, 2600 EAST 25TH STREET\, Minneapolis\, MN\, 55406\, United States
CATEGORIES:Support Group
ATTACH;FMTTYPE=image/png:https://www.sexualviolencecenter.org/wp-content/uploads/2023/06/SVC-Drop-In-Group-Social-Media.png
END:VEVENT
BEGIN:VEVENT
DTSTART;TZID=America/Chicago:20230522T170000
DTEND;TZID=America/Chicago:20230522T180000
DTSTAMP:20260420T010541
CREATED:20230612T184624Z
LAST-MODIFIED:20230817T194322Z
UID:6448-1684774800-1684778400@www.sexualviolencecenter.org
SUMMARY:Support Group: Drop-In
DESCRIPTION:Mondays 5:00 PM – 6:00 PM \nIn-Person \n2600 East 25th Street\, Suite C\nMinneapolis\, MN 55406 \nIf you plan to attend\, please give us a call at 612-871-5111.
URL:https://www.sexualviolencecenter.org/event/drop-in-support-group-2
LOCATION:SVC Minneapolis Office\, 2600 EAST 25TH STREET\, Minneapolis\, MN\, 55406\, United States
CATEGORIES:Support Group
ATTACH;FMTTYPE=image/png:https://www.sexualviolencecenter.org/wp-content/uploads/2023/06/SVC-Drop-In-Group-Social-Media.png
END:VEVENT
BEGIN:VEVENT
DTSTART;TZID=America/Chicago:20230522T170000
DTEND;TZID=America/Chicago:20230522T180000
DTSTAMP:20260420T010541
CREATED:20230612T184624Z
LAST-MODIFIED:20230817T194322Z
UID:6448-1684774800-1684778400@www.sexualviolencecenter.org
SUMMARY:Support Group: Drop-In
DESCRIPTION:Mondays 5:00 PM – 6:00 PM \nIn-Person \n2600 East 25th Street\, Suite C\nMinneapolis\, MN 55406 \nIf you plan to attend\, please give us a call at 612-871-5111.
URL:https://www.sexualviolencecenter.org/event/drop-in-support-group-2
LOCATION:SVC Minneapolis Office\, 2600 EAST 25TH STREET\, Minneapolis\, MN\, 55406\, United States
CATEGORIES:Support Group
ATTACH;FMTTYPE=image/png:https://www.sexualviolencecenter.org/wp-content/uploads/2023/06/SVC-Drop-In-Group-Social-Media.png
END:VEVENT
BEGIN:VEVENT
DTSTART;TZID=America/Chicago:20230522T170000
DTEND;TZID=America/Chicago:20230522T180000
DTSTAMP:20260420T010541
CREATED:20230612T184624Z
LAST-MODIFIED:20230817T194322Z
UID:6448-1684774800-1684778400@www.sexualviolencecenter.org
SUMMARY:Support Group: Drop-In
DESCRIPTION:Mondays 5:00 PM – 6:00 PM \nIn-Person \n2600 East 25th Street\, Suite C\nMinneapolis\, MN 55406 \nIf you plan to attend\, please give us a call at 612-871-5111.
URL:https://www.sexualviolencecenter.org/event/drop-in-support-group-2
LOCATION:SVC Minneapolis Office\, 2600 EAST 25TH STREET\, Minneapolis\, MN\, 55406\, United States
CATEGORIES:Support Group
ATTACH;FMTTYPE=image/png:https://www.sexualviolencecenter.org/wp-content/uploads/2023/06/SVC-Drop-In-Group-Social-Media.png
END:VEVENT
BEGIN:VEVENT
DTSTART;TZID=America/Chicago:20230522T170000
DTEND;TZID=America/Chicago:20230522T180000
DTSTAMP:20260420T010541
CREATED:20230612T184624Z
LAST-MODIFIED:20230817T194322Z
UID:6448-1684774800-1684778400@www.sexualviolencecenter.org
SUMMARY:Support Group: Drop-In
DESCRIPTION:Mondays 5:00 PM – 6:00 PM \nIn-Person \n2600 East 25th Street\, Suite C\nMinneapolis\, MN 55406 \nIf you plan to attend\, please give us a call at 612-871-5111.
URL:https://www.sexualviolencecenter.org/event/drop-in-support-group-2
LOCATION:SVC Minneapolis Office\, 2600 EAST 25TH STREET\, Minneapolis\, MN\, 55406\, United States
CATEGORIES:Support Group
ATTACH;FMTTYPE=image/png:https://www.sexualviolencecenter.org/wp-content/uploads/2023/06/SVC-Drop-In-Group-Social-Media.png
END:VEVENT
BEGIN:VEVENT
DTSTART;TZID=America/Chicago:20230522T170000
DTEND;TZID=America/Chicago:20230522T180000
DTSTAMP:20260420T010541
CREATED:20230612T184624Z
LAST-MODIFIED:20230817T194322Z
UID:6448-1684774800-1684778400@www.sexualviolencecenter.org
SUMMARY:Support Group: Drop-In
DESCRIPTION:Mondays 5:00 PM – 6:00 PM \nIn-Person \n2600 East 25th Street\, Suite C\nMinneapolis\, MN 55406 \nIf you plan to attend\, please give us a call at 612-871-5111.
URL:https://www.sexualviolencecenter.org/event/drop-in-support-group-2
LOCATION:SVC Minneapolis Office\, 2600 EAST 25TH STREET\, Minneapolis\, MN\, 55406\, United States
CATEGORIES:Support Group
ATTACH;FMTTYPE=image/png:https://www.sexualviolencecenter.org/wp-content/uploads/2023/06/SVC-Drop-In-Group-Social-Media.png
END:VEVENT
BEGIN:VEVENT
DTSTART;TZID=America/Chicago:20230320T163000
DTEND;TZID=America/Chicago:20230320T173000
DTSTAMP:20260420T010541
CREATED:20230227T215050Z
LAST-MODIFIED:20230301T165429Z
UID:6265-1679329800-1679333400@www.sexualviolencecenter.org
SUMMARY:Support Group: Drop-In
DESCRIPTION:Mondays 4:30 – 5:30 PM \nIn-Person \n2600 East 25th Street\, Suite C\nMinneapolis\, MN 55406 \nIf you plan to attend\, please RSVP here:  https://docs.google.com/forms/d/e/1FAIpQLSc_TLV-WA8JJE92CWMOP4jvuoYAVgwp_pmAv7rQU62i8LlzUA/viewform
URL:https://www.sexualviolencecenter.org/event/drop-in-support-group
LOCATION:SVC Minneapolis Office\, 2600 EAST 25TH STREET\, Minneapolis\, MN\, 55406\, United States
CATEGORIES:Support Group
ATTACH;FMTTYPE=image/jpeg:https://www.sexualviolencecenter.org/wp-content/uploads/2023/02/69d797ab-66d8-4527-aed8-851b314f21c1.jpg
END:VEVENT
BEGIN:VEVENT
DTSTART;TZID=America/Chicago:20230320T163000
DTEND;TZID=America/Chicago:20230320T173000
DTSTAMP:20260420T010541
CREATED:20230227T215050Z
LAST-MODIFIED:20230301T165429Z
UID:6265-1679329800-1679333400@www.sexualviolencecenter.org
SUMMARY:Support Group: Drop-In
DESCRIPTION:Mondays 4:30 – 5:30 PM \nIn-Person \n2600 East 25th Street\, Suite C\nMinneapolis\, MN 55406 \nIf you plan to attend\, please RSVP here:  https://docs.google.com/forms/d/e/1FAIpQLSc_TLV-WA8JJE92CWMOP4jvuoYAVgwp_pmAv7rQU62i8LlzUA/viewform
URL:https://www.sexualviolencecenter.org/event/drop-in-support-group
LOCATION:SVC Minneapolis Office\, 2600 EAST 25TH STREET\, Minneapolis\, MN\, 55406\, United States
CATEGORIES:Support Group
ATTACH;FMTTYPE=image/jpeg:https://www.sexualviolencecenter.org/wp-content/uploads/2023/02/69d797ab-66d8-4527-aed8-851b314f21c1.jpg
END:VEVENT
BEGIN:VEVENT
DTSTART;TZID=America/Chicago:20230301T180000
DTEND;TZID=America/Chicago:20230301T193000
DTSTAMP:20260420T010541
CREATED:20230207T210228Z
LAST-MODIFIED:20230301T160035Z
UID:6235-1677693600-1677699000@www.sexualviolencecenter.org
SUMMARY:Support Group: Still\, I Rise
DESCRIPTION:The next round of our “Still\, I Rise” support group will start March 1st. Group will be held virtually on Wednesdays from 6 PM – 7:30 PM.\nThis support group is for survivors aged 18+ who identify as Women of Color.\nAs always\, it is free to join! \nIf you are interested in participating in this group\, please call 612-871-5111 or email support@sexualviolencecenter.org. \n  \nAfter two sessions\, this group will close and no new intakes will be completed. Please check back in early Summer for the next round.
URL:https://www.sexualviolencecenter.org/event/support-group-still-i-rise
LOCATION:MN
CATEGORIES:Support Group
ATTACH;FMTTYPE=image/png:https://www.sexualviolencecenter.org/wp-content/uploads/2023/02/Still-I-Rise-Instagram-Post-1.png
END:VEVENT
BEGIN:VEVENT
DTSTART;TZID=America/Chicago:20230320T163000
DTEND;TZID=America/Chicago:20230320T173000
DTSTAMP:20260420T010541
CREATED:20230227T215050Z
LAST-MODIFIED:20230301T165429Z
UID:6265-1679329800-1679333400@www.sexualviolencecenter.org
SUMMARY:Support Group: Drop-In
DESCRIPTION:Mondays 4:30 – 5:30 PM \nIn-Person \n2600 East 25th Street\, Suite C\nMinneapolis\, MN 55406 \nIf you plan to attend\, please RSVP here:  https://docs.google.com/forms/d/e/1FAIpQLSc_TLV-WA8JJE92CWMOP4jvuoYAVgwp_pmAv7rQU62i8LlzUA/viewform
URL:https://www.sexualviolencecenter.org/event/drop-in-support-group
LOCATION:SVC Minneapolis Office\, 2600 EAST 25TH STREET\, Minneapolis\, MN\, 55406\, United States
CATEGORIES:Support Group
ATTACH;FMTTYPE=image/jpeg:https://www.sexualviolencecenter.org/wp-content/uploads/2023/02/69d797ab-66d8-4527-aed8-851b314f21c1.jpg
END:VEVENT
END:VCALENDAR